BEGIN:VCALENDAR
VERSION:2.0
PRODID:-//Octubre Centre de Cultura Contemporània - ECPv5.1.6//NONSGML v1.0//EN
CALSCALE:GREGORIAN
METHOD:PUBLISH
X-WR-CALNAME:Octubre Centre de Cultura Contemporània
X-ORIGINAL-URL:https://octubre.cat
X-WR-CALDESC:Events for Octubre Centre de Cultura Contemporània
BEGIN:VTIMEZONE
TZID:Europe/Andorra
BEGIN:DAYLIGHT
TZOFFSETFROM:+0100
TZOFFSETTO:+0200
TZNAME:CEST
DTSTART:20210328T010000
END:DAYLIGHT
BEGIN:STANDARD
TZOFFSETFROM:+0200
TZOFFSETTO:+0100
TZNAME:CET
DTSTART:20211031T010000
END:STANDARD
END:VTIMEZONE
BEGIN:VEVENT
DTSTART;TZID=Europe/Andorra:20210923T193000
DTEND;TZID=Europe/Andorra:20210923T193000
DTSTAMP:20260420T132316
CREATED:20210913T163439Z
LAST-MODIFIED:20210913T163655Z
UID:16911-1632425400-1632425400@octubre.cat
SUMMARY:DataBeersVLC #18
DESCRIPTION:Databeers València (@databeersvlc) és una iniciativa per a comunicar i difondre els beneficis i avanços en el camp de la ciència de dades d’una manera relaxada i divertida\, i amb una cervesa a la mà. \nFifth Anniversary Edition \nPrograma: \n—Mónica Duran (CDO / Seipasa).\nAgrodata\, extracció i explotació de dades en l’agricultura.\nEn els últims deu anys el sector agrícola ha sofert una digitalització sense precedents i gran part d’aquesta revolució s’ha centrat en l’explotació i interpretació de dades. Us facilitarem una aproximació de les tècniques utilitzades en la revolució Agrotech que actualment vivim i ens aproparem a l’anàlisi estadística utilitzat per als assaigs de productes fitosanitaris. \n—Gersón Beltran (Geògraf / Play&Go)\nDades geolocalitzades.\nQuè té a veure la geografia amb les dades? Molt!. El component espacial aporta un valor afegit a l’hora de treballar amb dades\, des de conèixer la geolocalització fins al context geogràfic. En el que li costa refredar-se a una cervesa farem un repàs de com la geolocalització pot ajudar a que les dades siguen millors\, amb exemples i casos d’ús. \n—Paula Ruiz (Biomedicina + biotecnologia / Fisabio)\nVigilant el SARS-CoV-2: el que aporta la genòmica.\nControlar una situació tan complexa com una pandèmia no és una missió fàcil\, però per sort vivim en l’era de les dades i de la genòmica. La seqüenciació del genoma del virus ens permet estudiar la transmissió a diferents escales i detectar i controlar l’expansió de noves variants\, entre altres coses. La vigilància de la SARS-CoV-2 a Espanya va començar de la mà de SeqCOVID\, un consorci en el qual hem tingut una tasca important que dur a terme. \n—Flan iLevick (Digital Chaman)\nL’era d’allò massivament únic.\nVenim d’una època caracteritzada per la producció massiva i repetitiva de productes\, on l’exclusivitat es paga cara. El preu per tenir una cosa única no està a l’abast de tots\, però ¿poden les noves tecnologies canviar aquesta manera de producció perquè tots puguem posseir la nostra peça\, objecte o experiència única? \n \n—\nHo organitzen el col·lectiu Databeers VLC\, l’Espai Ciència de l’Octubre CCC i l’Escola Tècnica Superior d’Enginyeria (ETSE-UV) de la Universitat de València
URL:https://octubre.cat/activitat/databeersvlc-18/
LOCATION:Terrat
CATEGORIES:DataBeers
ATTACH;FMTTYPE=image/jpeg:https://octubre.cat/www/wp-content/uploads/2021/06/databeeers-2019.jpg
END:VEVENT
END:VCALENDAR