BEGIN:VCALENDAR
VERSION:2.0
PRODID:-//Octubre Centre de Cultura Contemporània - ECPv5.1.6//NONSGML v1.0//EN
CALSCALE:GREGORIAN
METHOD:PUBLISH
X-WR-CALNAME:Octubre Centre de Cultura Contemporània
X-ORIGINAL-URL:https://octubre.cat
X-WR-CALDESC:Events for Octubre Centre de Cultura Contemporània
BEGIN:VTIMEZONE
TZID:Europe/Andorra
BEGIN:DAYLIGHT
TZOFFSETFROM:+0100
TZOFFSETTO:+0200
TZNAME:CEST
DTSTART:20240331T010000
END:DAYLIGHT
BEGIN:STANDARD
TZOFFSETFROM:+0200
TZOFFSETTO:+0100
TZNAME:CET
DTSTART:20241027T010000
END:STANDARD
END:VTIMEZONE
BEGIN:VEVENT
DTSTART;TZID=Europe/Andorra:20240516T190000
DTEND;TZID=Europe/Andorra:20240516T190000
DTSTAMP:20260421T103032
CREATED:20240426T162316Z
LAST-MODIFIED:20250713T084237Z
UID:21256-1715886000-1715886000@octubre.cat
SUMMARY:DataBeers VLC #31
DESCRIPTION:Databeers València (@databeersvlc) és una iniciativa per a comunicar i difondre els beneficis i avanços en el camp de la ciència de dades d’una manera relaxada i divertida\, i amb una cervesa a la mà.  \nEl programa de ponències és el següent: \n–«Anàlisi d’experiència d’usuari amb eyetracking i machine learning»\nper Irene Zaragoza (Universitat de València) \n–«Sexant mosquits per a controlar la transmissió de malalties»\nper Mario Zacarés (Universitat Catòlica de València) \n–«Som fidels? O potser no? Construïm un model per a estudiar el canvi de marca»\nper Llúcia Monreal (Universitat Politècnica de València) \n–«Les estafes en el món de l’art»\nper Antonio López (Policia Nacional) \nPrèvia musical a càrrec de Yolanda Olcina. \n  \n—\nHo organitzen el col·lectiu Databeers VLC\, l’Espai Ciència de l’Octubre CCC i l’Escola Tècnica Superior d’Enginyeria (ETSE-UV) de la Universitat de València.
URL:https://octubre.cat/activitat/databeers-vlc-31/
LOCATION:Cafeteria
CATEGORIES:DataBeers
ATTACH;FMTTYPE=image/jpeg:https://octubre.cat/www/wp-content/uploads/2023/06/databeers-generic.jpg
END:VEVENT
END:VCALENDAR