BEGIN:VCALENDAR
VERSION:2.0
PRODID:-//Octubre Centre de Cultura Contemporània - ECPv5.1.6//NONSGML v1.0//EN
CALSCALE:GREGORIAN
METHOD:PUBLISH
X-WR-CALNAME:Octubre Centre de Cultura Contemporània
X-ORIGINAL-URL:https://octubre.cat
X-WR-CALDESC:Events for Octubre Centre de Cultura Contemporània
BEGIN:VTIMEZONE
TZID:Europe/Andorra
BEGIN:DAYLIGHT
TZOFFSETFROM:+0100
TZOFFSETTO:+0200
TZNAME:CEST
DTSTART:20230326T010000
END:DAYLIGHT
BEGIN:STANDARD
TZOFFSETFROM:+0200
TZOFFSETTO:+0100
TZNAME:CET
DTSTART:20231029T010000
END:STANDARD
END:VTIMEZONE
BEGIN:VEVENT
DTSTART;TZID=Europe/Andorra:20230518T190000
DTEND;TZID=Europe/Andorra:20230518T190000
DTSTAMP:20260420T152537
CREATED:20230503T153101Z
LAST-MODIFIED:20250710T094540Z
UID:19938-1684436400-1684436400@octubre.cat
SUMMARY:DataBeers VLC #26
DESCRIPTION:Databeers València (@databeersvlc) i l’Associació Catalana d’Intel·ligència Artificial et conviden a aquesta trobada per a difondre els beneficis i avanços en les aplicacions socials de la IA d’una manera relaxada\, divertida\, i amb una cervesa a la mà. \nEl programa de ponències és el següent: \n– «La importància de l’explicabilitat en els sistemes predictius»\nper Juan Ramon Rico (Universitat d’Alacant) \n– «Model digital del cor per a la planificació de la teràpia antiarrítmica»\nper Dolors Serra (Universitat de València) \n– «Els colors i les emocions en gastronomia»\nper Dolores Llidó (Universitat Jaume I) \n– «Dades sintètiques\, no tots els fakes són dolents»\nper Cecilio Angulo (Universitat Politècnica de Catalunya) \nSessió musical «Musicolog(IA)» a càrrec de H4L 9000  \n \n—\nHo organitzen el col·lectiu Databeers VLC\, l’Espai Ciència de l’Octubre CCC i l’Escola Tècnica Superior d’Enginyeria (ETSE-UV) de la Universitat de València. Amb la col·laboració de l’Associació Catalana d’Intel·ligència Artificial.
URL:https://octubre.cat/activitat/databeers-vlc-26/
LOCATION:Cafeteria
CATEGORIES:DataBeers
ATTACH;FMTTYPE=image/jpeg:https://octubre.cat/www/wp-content/uploads/2023/02/databeers-recurs.jpg
END:VEVENT
END:VCALENDAR