BEGIN:VCALENDAR
VERSION:2.0
PRODID:-//Octubre Centre de Cultura Contemporània - ECPv5.1.6//NONSGML v1.0//EN
CALSCALE:GREGORIAN
METHOD:PUBLISH
X-WR-CALNAME:Octubre Centre de Cultura Contemporània
X-ORIGINAL-URL:https://octubre.cat
X-WR-CALDESC:Events for Octubre Centre de Cultura Contemporània
BEGIN:VTIMEZONE
TZID:Europe/Andorra
BEGIN:DAYLIGHT
TZOFFSETFROM:+0100
TZOFFSETTO:+0200
TZNAME:CEST
DTSTART:20230326T010000
END:DAYLIGHT
BEGIN:STANDARD
TZOFFSETFROM:+0200
TZOFFSETTO:+0100
TZNAME:CET
DTSTART:20231029T010000
END:STANDARD
END:VTIMEZONE
BEGIN:VEVENT
DTSTART;TZID=Europe/Andorra:20230309T190000
DTEND;TZID=Europe/Andorra:20230309T190000
DTSTAMP:20260420T114801
CREATED:20230218T155309Z
LAST-MODIFIED:20250710T094502Z
UID:19518-1678388400-1678388400@octubre.cat
SUMMARY:DataBeers VLC #25
DESCRIPTION:Databeers València (@databeersvlc) és una iniciativa per a comunicar i difondre els beneficis i avanços en el camp de la ciència de dades d’una manera relaxada i divertida\, i amb una cervesa a la mà. \nCelebrem el Dia de la Dona amb referents femenins de la ciència de dades en la quarta edició especial organitzada conjuntament amb el projecte Girls4STEM de la Universitat de València. \nEl programa de ponències és el següent: \n—Ana Bartolomé (Col·legi de Farmacèutics d’Alacant)\nFarmacèutica comunitària\, apotecària més enllà de pastilles de color blanc i un aparador \n—Carmen Íñiguez (Universitat de València)\nRisc de part prematur associat a la calor \n—Cristina Pérez (València CF)\nValoració medicoesportiva d’aptitud: dades de salut i rendiment \n–Verónica Romero (Universitat de València)\nTranscripció i cerca de documents manuscrits antics \n Prèvia musical “L’hora màgica” a càrrec de Sister Of Night \n  \n—\nHo organitzen el col·lectiu Databeers VLC\, l’Espai Ciència de l’Octubre CCC i l’Escola Tècnica Superior d’Enginyeria (ETSE-UV) de la Universitat de València\, amb la col·laboració de Girls4STEM.
URL:https://octubre.cat/activitat/databeers-vlc-25/
LOCATION:Hall
CATEGORIES:DataBeers
ATTACH;FMTTYPE=image/png:https://octubre.cat/www/wp-content/uploads/2023/02/galeria_web-24.png
END:VEVENT
END:VCALENDAR