BEGIN:VCALENDAR
VERSION:2.0
PRODID:-//Octubre Centre de Cultura Contemporània - ECPv5.1.6//NONSGML v1.0//EN
CALSCALE:GREGORIAN
METHOD:PUBLISH
X-WR-CALNAME:Octubre Centre de Cultura Contemporània
X-ORIGINAL-URL:https://octubre.cat
X-WR-CALDESC:Events for Octubre Centre de Cultura Contemporània
BEGIN:VTIMEZONE
TZID:Europe/Andorra
BEGIN:DAYLIGHT
TZOFFSETFROM:+0100
TZOFFSETTO:+0200
TZNAME:CEST
DTSTART:20220327T010000
END:DAYLIGHT
BEGIN:STANDARD
TZOFFSETFROM:+0200
TZOFFSETTO:+0100
TZNAME:CET
DTSTART:20221030T010000
END:STANDARD
END:VTIMEZONE
BEGIN:VEVENT
DTSTART;TZID=Europe/Andorra:20221124T190000
DTEND;TZID=Europe/Andorra:20221124T190000
DTSTAMP:20260420T194027
CREATED:20221103T115146Z
LAST-MODIFIED:20250629T102245Z
UID:18982-1669316400-1669316400@octubre.cat
SUMMARY:DataBeers VLC #24
DESCRIPTION:Databeers València (@databeersvlc) és una iniciativa per a comunicar i difondre els beneficis i avanços en el camp de la ciència de dades d’una manera relaxada i divertida\, i amb una cervesa a la mà. \nEdició Govern Obert \nEl programa de ponències és el següent: \n—F﻿ernando Gallego (Ajuntament de València)\nModel de Governança per a l’Estratègia Urbana 2030+ \n—A﻿ida Villalba (Universitat Politècnica de València)\nValència en 15 minuts \n—E﻿rnesto Faubel (Ajuntament de València)\nPlataforma urbana de Smart City de València VLCi \n–C﻿arol Soriano (Institut de Biomecànica de València)\nAnàlisi del descens de l’ús de la bicicleta compartida a través de les dades obertes \nDancing in the Street urban city temazos session a càrrec de Maiquel Nait. \n  \n—\nHo organitzen el col·lectiu Databeers VLC\, l’Espai Ciència de l’Octubre CCC i l’Escola Tècnica Superior d’Enginyeria (ETSE-UV) de la Universitat de València. Amb la col·laboració de la Càtedra de Ludificació de la UV i l Regidoria de Participació Ciutadana i Govern Obert de l’Ajuntament de València.
URL:https://octubre.cat/activitat/databeers-vlc-24/
LOCATION:Cafeteria
CATEGORIES:DataBeers
ATTACH;FMTTYPE=image/jpeg:https://octubre.cat/www/wp-content/uploads/2022/11/databeers23.jpg
END:VEVENT
END:VCALENDAR