BEGIN:VCALENDAR
VERSION:2.0
PRODID:-//Octubre Centre de Cultura Contemporània - ECPv5.1.6//NONSGML v1.0//EN
CALSCALE:GREGORIAN
METHOD:PUBLISH
X-WR-CALNAME:Octubre Centre de Cultura Contemporània
X-ORIGINAL-URL:https://octubre.cat
X-WR-CALDESC:Events for Octubre Centre de Cultura Contemporània
BEGIN:VTIMEZONE
TZID:Europe/Andorra
BEGIN:DAYLIGHT
TZOFFSETFROM:+0100
TZOFFSETTO:+0200
TZNAME:CEST
DTSTART:20170326T010000
END:DAYLIGHT
BEGIN:STANDARD
TZOFFSETFROM:+0200
TZOFFSETTO:+0100
TZNAME:CET
DTSTART:20171029T010000
END:STANDARD
END:VTIMEZONE
BEGIN:VEVENT
DTSTART;TZID=Europe/Andorra:20170919T190000
DTEND;TZID=Europe/Andorra:20170919T190000
DTSTAMP:20260420T195729
CREATED:20200729T172654Z
LAST-MODIFIED:20200729T185858Z
UID:11196-1505847600-1505847600@octubre.cat
SUMMARY:Darwin al Terrat
DESCRIPTION:Dimarts 19 de setembre a les 19.00h\, al terrat de l’Octubre CCC. Espai Ciència 10 anys. Una conversa conduïda per Reis Juan amb Xavier Bellés\, Martí Domínguez i Juli Peretó.  \n  \n  \n\n Espai Ciència 10 anys  Amb motiu de la publicació de L’origen de les espècies (Bromera/PUV) i L’expressió de les emocions en l’home i en els animals (IEC)  Una conversa conduïda per Reis Juan amb Xavier Bellés\, Martí Domínguez i Juli Peretó.  Els assistents podran tastar un refrescant nuvolet elaborat amb l’anís preferit del Sr. Darwin.  Col·laboren: Llibreria Fan Set\, Institut d’Estudis Catalans\, Acció Cultural del País Valencià\, Càtedra de Divulgació de la Ciència / UCC\, CSIC\, Bromera\, Publicacions de la Universitat de València.
URL:https://octubre.cat/activitat/darwin-al-terrat/
LOCATION:Terrat
CATEGORIES:Espai Ciència
ATTACH;FMTTYPE=image/jpeg:https://octubre.cat/www/wp-content/uploads/2020/07/activitat2865.jpg
END:VEVENT
END:VCALENDAR