BEGIN:VCALENDAR
VERSION:2.0
PRODID:-//Octubre Centre de Cultura Contemporània - ECPv5.1.6//NONSGML v1.0//EN
CALSCALE:GREGORIAN
METHOD:PUBLISH
X-WR-CALNAME:Octubre Centre de Cultura Contemporània
X-ORIGINAL-URL:https://octubre.cat
X-WR-CALDESC:Events for Octubre Centre de Cultura Contemporània
BEGIN:VTIMEZONE
TZID:Europe/Andorra
BEGIN:DAYLIGHT
TZOFFSETFROM:+0100
TZOFFSETTO:+0200
TZNAME:CEST
DTSTART:20100328T010000
END:DAYLIGHT
BEGIN:STANDARD
TZOFFSETFROM:+0200
TZOFFSETTO:+0100
TZNAME:CET
DTSTART:20101031T010000
END:STANDARD
END:VTIMEZONE
BEGIN:VEVENT
DTSTART;TZID=Europe/Andorra:20100605T190000
DTEND;TZID=Europe/Andorra:20100605T190000
DTSTAMP:20260421T012522
CREATED:20200729T164941Z
LAST-MODIFIED:20200730T042513Z
UID:8859-1275764400-1275764400@octubre.cat
SUMMARY:Dansa de vetlatori
DESCRIPTION:Dissabte 5 de juny\, a les 19.00h: Lectura dramatitzada de l’obra “Dansa de vetlatori”\, a càrrec de Bòbila-Teatre.   \n  \n  \n\nLectura dramatitzada de l’obra de Manuel Molins a càrrec de Bòbila-Teatre.   Bòbila-Teatre fa una crònica del mal d’Almansa a través del text de Manuel Molins. Per això s’atreveix a subtitular l’obra original Dansa de vetlatori\, com a “Crònica del mal d’Almansa”. Es tracta d’una representació llegida\, perquè la intenció és que allò que es narra i es comenta\, com moltes vegades es diu durant la representació de l’obra de teatre\, siga una crònica\, com un article de fons periodístic\, amb possibilitats d’anàlisi per a l’espectador.
URL:https://octubre.cat/activitat/dansa-de-vetlatori/
LOCATION:No definit
CATEGORIES:Teatre
ATTACH;FMTTYPE=image/jpeg:https://octubre.cat/www/wp-content/uploads/2020/07/activitat1208.jpg
END:VEVENT
END:VCALENDAR