BEGIN:VCALENDAR
VERSION:2.0
PRODID:-//Octubre Centre de Cultura Contemporània - ECPv5.1.6//NONSGML v1.0//EN
CALSCALE:GREGORIAN
METHOD:PUBLISH
X-WR-CALNAME:Octubre Centre de Cultura Contemporània
X-ORIGINAL-URL:https://octubre.cat
X-WR-CALDESC:Events for Octubre Centre de Cultura Contemporània
BEGIN:VTIMEZONE
TZID:Europe/Andorra
BEGIN:DAYLIGHT
TZOFFSETFROM:+0100
TZOFFSETTO:+0200
TZNAME:CEST
DTSTART:20090329T010000
END:DAYLIGHT
BEGIN:STANDARD
TZOFFSETFROM:+0200
TZOFFSETTO:+0100
TZNAME:CET
DTSTART:20091025T010000
END:STANDARD
END:VTIMEZONE
BEGIN:VEVENT
DTSTART;TZID=Europe/Andorra:20090212T200000
DTEND;TZID=Europe/Andorra:20090212T200000
DTSTAMP:20260420T211601
CREATED:20200730T035934Z
LAST-MODIFIED:20200730T035934Z
UID:14069-1234468800-1234468800@octubre.cat
SUMMARY:Danny Boy & The Combo Kings
DESCRIPTION:Dijous 12 de febrer\, a les 20.00h:  Danny Boy & The Combo Kings  \n  \n  \n\nHarmonicista i cantant de blues de la ciutat de València\, de formació autodidacta. Es va iniciar amb l’harmònica a mitjan dels anys vuitanta gràcies a un concert de Buddy Guy i Junior Wells. La seua font d’inspiració és el blus clàssic\, però tampoc no deixa de banda la investigació cap a noves tècniques i estils\, amb influències (canòniques i no) de gent com Little Walter\, Sonny Boy\, Walter Horton\, George Smith o William Clarke\, o els més actuals en la línia de Billie Branch\, Mark Hummel\, etc. El 1997 formà el quartet Danny Boy and the Jumpers\, en el qual el Chicago Blues\, el West Coast i el blues acústic conformaven la seua potent base musical que els donà fama.
URL:https://octubre.cat/activitat/danny-boy-the-combo-kings/
LOCATION:No definit
CATEGORIES:Cicle de música pop
ATTACH;FMTTYPE=image/jpeg:https://octubre.cat/www/wp-content/uploads/2020/07/activitat750.jpg
END:VEVENT
END:VCALENDAR