BEGIN:VCALENDAR
VERSION:2.0
PRODID:-//Octubre Centre de Cultura Contemporània - ECPv5.1.6//NONSGML v1.0//EN
CALSCALE:GREGORIAN
METHOD:PUBLISH
X-WR-CALNAME:Octubre Centre de Cultura Contemporània
X-ORIGINAL-URL:https://octubre.cat
X-WR-CALDESC:Events for Octubre Centre de Cultura Contemporània
BEGIN:VTIMEZONE
TZID:Europe/Andorra
BEGIN:DAYLIGHT
TZOFFSETFROM:+0100
TZOFFSETTO:+0200
TZNAME:CEST
DTSTART:20190331T010000
END:DAYLIGHT
BEGIN:STANDARD
TZOFFSETFROM:+0200
TZOFFSETTO:+0100
TZNAME:CET
DTSTART:20191027T010000
END:STANDARD
END:VTIMEZONE
BEGIN:VEVENT
DTSTART;TZID=Europe/Andorra:20190710T190000
DTEND;TZID=Europe/Andorra:20190710T190000
DTSTAMP:20260422T001808
CREATED:20200729T173425Z
LAST-MODIFIED:20200729T191156Z
UID:11457-1562785200-1562785200@octubre.cat
SUMMARY:Daniel Closa i Greta Thunberg
DESCRIPTION:Dimecres 10 de juliol a les 19.00h. Presentació dels llibres Antropocè: la fi d’un món de Daniel Closa i Canviem el món de Greta Thunberg.	 \n  \n  \n\n 	 Presentació de llibres:  Antropocè: la fi d’un món. Guia per entendre com estem alterant el planeta (Angle editorial) de Daniel Closa  Canviem el món #vagapelclima (Edicions Destino) de Greta Thunberg  Amb la participació de —Daniel Closa\, autor d’Antropocè —Alba Calonge\, estudiant i membre de Fridays for Future València —Andreu Escrivà\, ambientòleg i autor d’Encara no és tard
URL:https://octubre.cat/activitat/daniel-closa-i-greta-thunberg/
LOCATION:Llibreria Fan Set
CATEGORIES:Espai Ciència
ATTACH;FMTTYPE=image/jpeg:https://octubre.cat/www/wp-content/uploads/2020/07/activitat3303.jpg
END:VEVENT
END:VCALENDAR