BEGIN:VCALENDAR
VERSION:2.0
PRODID:-//Octubre Centre de Cultura Contemporània - ECPv5.1.6//NONSGML v1.0//EN
CALSCALE:GREGORIAN
METHOD:PUBLISH
X-WR-CALNAME:Octubre Centre de Cultura Contemporània
X-ORIGINAL-URL:https://octubre.cat
X-WR-CALDESC:Events for Octubre Centre de Cultura Contemporània
BEGIN:VTIMEZONE
TZID:Europe/Andorra
BEGIN:DAYLIGHT
TZOFFSETFROM:+0100
TZOFFSETTO:+0200
TZNAME:CEST
DTSTART:20240331T010000
END:DAYLIGHT
BEGIN:STANDARD
TZOFFSETFROM:+0200
TZOFFSETTO:+0100
TZNAME:CET
DTSTART:20241027T010000
END:STANDARD
END:VTIMEZONE
BEGIN:VEVENT
DTSTART;TZID=Europe/Andorra:20241216T183000
DTEND;TZID=Europe/Andorra:20241216T183000
DTSTAMP:20260421T080638
CREATED:20241205T091821Z
LAST-MODIFIED:20241205T091821Z
UID:22027-1734373800-1734373800@octubre.cat
SUMMARY:DANA: claus per a una reconstrucció amb futur
DESCRIPTION:Col·loqui-debat. \nPresentadora i conductora:\nLaura Ballester\, periodista especialitzada en ordenació territorial i medi ambient \nParticipants:\n—Francisca Segura\, catedràtica de geografia\, Universitat de València\n—Josep Lluís Miralles\, enginyer de camins\, professor d’urbanisme UPV\n—Francesc La-Roca\, professor d’economia UV\, Fundació Nova Cultura de l’Aigua\n—Juan Bordera\, diputat Corts Valencianes\, periodista expert en canvi climàtic\n—Fran Vallés\, professor d’enginyeria hidràulica UPV\, Institut Enginyeria de l’Aigua i MA \n—\nOrganitzat per Acció Cultural del País Valencià
URL:https://octubre.cat/activitat/dana-claus-per-a-una-reconstruccio-amb-futur/
LOCATION:Sala d’actes
CATEGORIES:Conferències i congressos
ATTACH;FMTTYPE=image/jpeg:https://octubre.cat/www/wp-content/uploads/2024/12/XIVA-inundacions-2024_FotoPRATSiCAMPS-scaled.jpg
END:VEVENT
END:VCALENDAR