BEGIN:VCALENDAR
VERSION:2.0
PRODID:-//Octubre Centre de Cultura Contemporània - ECPv5.1.6//NONSGML v1.0//EN
CALSCALE:GREGORIAN
METHOD:PUBLISH
X-WR-CALNAME:Octubre Centre de Cultura Contemporània
X-ORIGINAL-URL:https://octubre.cat
X-WR-CALDESC:Events for Octubre Centre de Cultura Contemporània
BEGIN:VTIMEZONE
TZID:Europe/Andorra
BEGIN:DAYLIGHT
TZOFFSETFROM:+0100
TZOFFSETTO:+0200
TZNAME:CEST
DTSTART:20080330T010000
END:DAYLIGHT
BEGIN:STANDARD
TZOFFSETFROM:+0200
TZOFFSETTO:+0100
TZNAME:CET
DTSTART:20081026T010000
END:STANDARD
END:VTIMEZONE
BEGIN:VEVENT
DTSTART;TZID=Europe/Andorra:20081008T203000
DTEND;TZID=Europe/Andorra:20081008T203000
DTSTAMP:20260420T194218
CREATED:20200729T182106Z
LAST-MODIFIED:20210801T152751Z
UID:12705-1223497800-1223497800@octubre.cat
SUMMARY:Dakei (Shizuku) - Improvisació de dansa butoh del Japó
DESCRIPTION:La dansa butoh és un estil de dansa japonesa creat el 1950 per Kazuo Ohno i Tatsumi Hijikata a partir de les seues experiències vitals ocasionades pels bombardejos de Nagasaki i Hiroshima i per la visió dels supervivents que caminaven pels carrers amb els cossos cremats i amb els globus oculars reventats i penjant. El butoh és\, doncs\, “la dansa cap a l’obscuritat”. \nDakei (que té la peculiaritat\, a més\, de ser sord) és un dels màxims exponents actuals d’aquest tipus de dansa i treballà primer a Tòkyo i posteriorment a Washington. El 1997 entra en contacte amb el grup Yan-shu\, potser el més internacional dels dedicats a la dansa butoh i treballa amb ells a nombrosos països. L’any 2000 forma la seua pròpia companyia\, Shizuku\, que presenta les seues coreografies i tallers per tot el món. \nAquest dimecres\, Dakei realitzarà a l’Octubre CCC una demostració / improvisació de dansa butho acompanyat pels ballarins Lucas Redondo (ballarí instructor) i Cristina Cabo (del Teatre Gran Cielo de València). \nActivitat patrocinada per la Nomura Art Foundation.  Entrada lliure
URL:https://octubre.cat/activitat/dakei-shizuku-improvisacio-de-dansa-butoh-del-japo/
LOCATION:Terrat
CATEGORIES:Performance
ATTACH;FMTTYPE=image/jpeg:https://octubre.cat/www/wp-content/uploads/2020/07/dakei.jpg
END:VEVENT
END:VCALENDAR