BEGIN:VCALENDAR
VERSION:2.0
PRODID:-//Octubre Centre de Cultura Contemporània - ECPv5.1.6//NONSGML v1.0//EN
CALSCALE:GREGORIAN
METHOD:PUBLISH
X-WR-CALNAME:Octubre Centre de Cultura Contemporània
X-ORIGINAL-URL:https://octubre.cat
X-WR-CALDESC:Events for Octubre Centre de Cultura Contemporània
BEGIN:VTIMEZONE
TZID:Europe/Andorra
BEGIN:DAYLIGHT
TZOFFSETFROM:+0100
TZOFFSETTO:+0200
TZNAME:CEST
DTSTART:20210328T010000
END:DAYLIGHT
BEGIN:STANDARD
TZOFFSETFROM:+0200
TZOFFSETTO:+0100
TZNAME:CET
DTSTART:20211031T010000
END:STANDARD
END:VTIMEZONE
BEGIN:VEVENT
DTSTART;TZID=Europe/Andorra:20210928T190000
DTEND;TZID=Europe/Andorra:20210928T190000
DTSTAMP:20260421T120101
CREATED:20210727T102434Z
LAST-MODIFIED:20210906T152332Z
UID:16796-1632855600-1632855600@octubre.cat
SUMMARY:Curts en Femení 2021
DESCRIPTION:Curts en Femení és un programa de curtmetratges realitzats per dones a l’Estat espanyol\, que es convoca anualment des de TRAMA\, coordinadora de mostres i festivals de cinema\, vídeo i multimèdia realitzat per dones. \nLes obres seleccionades són projectades en les diferents mostres que componen la coordinadora (Barcelona\, ​​Bilbao\, Osca\, Pamplona\, ​​València i Saragossa). \nProjeccions: \n  \n \n– ¿Dónde estabas tú?\, de María Trénor.\nCategoria: Documental / Animació\nAny: 2020\nDurada: 19\,47′\nIdioma: Castellà / Portuguès / Anglès\nSinopsi: Reflexió davant d’aquesta realitat transversal i universal que és la violència contra les dones. Violències quotidianes\, subtils o brutals\, totes terribles i intolerables. Vivències comptades en diferents idiomes i des de diferents països. Una pel·lícula que harmonitza el rigor del testimoni real amb l’evocació i la força visual de l’animació.\nGuardons: Premi Women In Animation Diversity a l’Spark Animation Festival de Vancouver (2020); secció oficial Festival de Saint Louis (2020)\, secció oficial Festival Internacional d’Animació de Palm Springs\, (2020) secció oficial Canlandiranlar Film Festival de Turquia (2020); secció oficial Reanima International Animation Festival de Bergen (2020); secció oficial Festival de Cinema d’Alcalá d’Henares (2020); Menció Especial de Jurat del Menorca Doc Festival (2020); secció oficial Festival Iberoamericà de Huelva (2020). \n  \n \n– Nunca te dejé sola\, de Mireia Noguera.\nCategoria: Ficció\nAny: 2019\nDurada: 18\,18′\nIdioma: Castellà\nIntèrprets: Nora Navas\, Clàudia Pons\nSinopsi: Claudia\, una adolescent que sempre ha sentit un estrany rebuig per la seua mare\, l’acompanya a netejar una antiga casa familiar on solien estiuejar. Un cop allà\, Claudia es troba amb els fantasmes del seu passat i es veu obligada a enfrontar-se a la veritat de la que porta escapant tota la vida.\nGuardons: Premi Méliès d’Argent del Festival de Cinema de Terror de Molins de Rei (2020); Millor Actriu (Nora Navas) al Festival de Terror La Mar Bella (2020); Millor Directora en el Concurs de Curtmetratges Diputació de Jaén contra la Violència de Gènere (2021); Millor Curtmetratge al Psicurt (2020); Premi AMMA i accèssit al Certamen de Creació Audiovisual de Cabra (2020). \n  \n \n– Panteres\, d’Èrika Sánchez.\nCategoria: Ficció\nAny: 2020\nDurada: 22\,36′\nIdioma: Català / Castellà / Bubi\nDirecció: Èrika Sánchez Marcos\nIntèrprets: Laia Capdevila\, Rime Kopoború\nSinopsi: Joana i Nina\, dues noies de 13 anys\, viuen a Barcelona atrapades en les contradiccions de la pubertat femenina al primer món. Les dues són dones del seu temps i condició: xarxes socials\, immediatesa i excessos. Avui\, Joana ha decidit idear un joc en el qual involucrarà a la seva amiga Nina. Un dia decisiu en la pubertat que provocarà que alguna cosa en cadascuna d’elles canviï per sempre.\nGuardons: secció Generation 14plus del Festival Internacional de Cinema de Berlín (2020); Millor Curtmetratge al Festival Ibèric de Cinema de Badajoz (2020); Millor Interpretació Nacional en el Certamen Internacional de Curts de Sòria ((2020); Menció honorífica al Festival de Tel Aviv (2020). \n  \n \n– #PrecarityStory\, de Lorena Cervera i Isabel Seguí.\nCategoria: Documental\nAny: 2020\nDurada: 24\,43′\nIdioma: Anglès\nIntèrprets: Lorena Cervera\, Isabel Seguí\, Maria Fernanda Miño\, Charlotte Rattray\, Nuria Araüna\, Ethan Landes\nSinopsi: Isabel imparteix classes\, investiga i neteja a la mateixa universitat britànica. La seva història es presenta com un exemple de la creixent precarització de la feina universitària i les seves conseqüències humanes. Filmat durant les vagues de personal universitari del Regne Unit entre 2018 i 2020\, aquest documental exposa la realitat poc coneguda del precariat acadèmic i contribueix al debat públic en curs sobre els efectes de les polítiques neoliberals -i ara també la Covid-19- a la educació superior britànica.\nGuardons: Menció Especial del Jurat al Festival de Cinema Documental Alcances de Cadis (2020); selecció en el Demakijaż-Women ‘s Film Festival de Lublin\, Polònia (2020). \n  \n \n– Quebrantos\, de María Elorza i Koldo Almandoz.\nCategoria: Documental\nDurada: 7\,36′\nIdioma: Euskera\nIntèrprets: Ziortza Linares\, Maite Artola\nSinopsi: -Tu el volies no? -Sí. Crec que el vaig deixar d’estimar fa poc. (Interferències. Silencis. Fissures. Dues dones parlant. Una ràdio-grafia).\nGuardons: Premi CIMA al Festival Internacional de Curtmetratges de Ficció\, Documental\, Animació i Videoart Bendita Tú (2020); Millor So i Menció Especial a la Millor Direcció en Cortogenia de Madrid (2020); Millor Curtmetratge en el Festival La Mida Importa de Barcelona (2021). \n—\nOrganitzat pel Festival Dona i Cinema amb la col·laboració de l’Octubre CCC.
URL:https://octubre.cat/activitat/curts-en-femeni-2021/
LOCATION:Sala d’actes
CATEGORIES:VI Biennal Internacional Dona i Cinema
ATTACH;FMTTYPE=image/jpeg:https://octubre.cat/www/wp-content/uploads/2021/07/Curts-en-femeni-2021-scaled.jpeg
END:VEVENT
END:VCALENDAR