BEGIN:VCALENDAR
VERSION:2.0
PRODID:-//Octubre Centre de Cultura Contemporània - ECPv5.1.6//NONSGML v1.0//EN
CALSCALE:GREGORIAN
METHOD:PUBLISH
X-WR-CALNAME:Octubre Centre de Cultura Contemporània
X-ORIGINAL-URL:https://octubre.cat
X-WR-CALDESC:Events for Octubre Centre de Cultura Contemporània
BEGIN:VTIMEZONE
TZID:Europe/Andorra
BEGIN:DAYLIGHT
TZOFFSETFROM:+0100
TZOFFSETTO:+0200
TZNAME:CEST
DTSTART:20180325T010000
END:DAYLIGHT
BEGIN:STANDARD
TZOFFSETFROM:+0200
TZOFFSETTO:+0100
TZNAME:CET
DTSTART:20181028T010000
END:STANDARD
END:VTIMEZONE
BEGIN:VEVENT
DTSTART;TZID=Europe/Andorra:20180129T000000
DTEND;TZID=Europe/Andorra:20180129T000000
DTSTAMP:20260421T190513
CREATED:20200729T190223Z
LAST-MODIFIED:20200729T190223Z
UID:13290-1517184000-1517184000@octubre.cat
SUMMARY:Curs de Monitor d'Activitats de Temps Lliure infantil i juvenil (MATL)
DESCRIPTION:Cursos impartits per l’Escola d’Animació d’Acció Cultural del País Valencià. Els cursos es realitzaran de febrer a abril de 2018. Data límit per a les inscripcions: 29 de gener de 2018.  \n  \n  \n\n Aquest curs té com a principal objectiu la capacitació per realitzar les funcions que s’atribueixen al monitoratge d’infants i joves i l’obtenció del títol de Monitor d’activitats d’educació en el temps lliure infantil i juvenil que expedeix l’Institut Valencià de la Joventut (IVAJ-Generalitat Jove).  Cursos de febrer a abril de 2018.  Data límit per a les inscripcions: 29 de gener de 2018.  Tota la informació i formulari d’inscripcions a l’Escola d’Animació d’Acció Cultural del País Valencià.
URL:https://octubre.cat/activitat/curs-de-monitor-dactivitats-de-temps-lliure-infantil-i-juvenil-matl/
LOCATION:No definit
CATEGORIES:Els tallers de l'Octubre
ATTACH;FMTTYPE=image/jpeg:https://octubre.cat/www/wp-content/uploads/2020/07/activitat2929.jpg
END:VEVENT
END:VCALENDAR