BEGIN:VCALENDAR
VERSION:2.0
PRODID:-//Octubre Centre de Cultura Contemporània - ECPv5.1.6//NONSGML v1.0//EN
CALSCALE:GREGORIAN
METHOD:PUBLISH
X-WR-CALNAME:Octubre Centre de Cultura Contemporània
X-ORIGINAL-URL:https://octubre.cat
X-WR-CALDESC:Events for Octubre Centre de Cultura Contemporània
BEGIN:VTIMEZONE
TZID:Europe/Andorra
BEGIN:DAYLIGHT
TZOFFSETFROM:+0100
TZOFFSETTO:+0200
TZNAME:CEST
DTSTART:20160327T010000
END:DAYLIGHT
BEGIN:STANDARD
TZOFFSETFROM:+0200
TZOFFSETTO:+0100
TZNAME:CET
DTSTART:20161030T010000
END:STANDARD
END:VTIMEZONE
BEGIN:VEVENT
DTSTART;TZID=Europe/Andorra:20160211T000000
DTEND;TZID=Europe/Andorra:20160213T000000
DTSTAMP:20260421T184217
CREATED:20200729T171624Z
LAST-MODIFIED:20200729T185413Z
UID:10522-1455148800-1455321600@octubre.cat
SUMMARY:Cultura en Acció
DESCRIPTION:De l’11 al 13 de febrer. Jornades “Els joves i la cultura” organitzades per Joves d’Acció. Inscripció oberta.  \n  \n  \n\n ELS JOVES I LA CULTURA  Cultura en Acció consisteix en un cicle de jornades que pretenen ser un punt d’encontre d’experiències en l’àmbit de la cultura al nostre país per tal mostrar la feina dels joves que s’impliquen en la cultura. Així com la creació d’un espai de debat entre els agents culturals\, polítics i institucionals\, per tal de que escolten les nostres propostes. Fem cultura!  PROGRAMACIÓ  Dijous 11 febrer  19 hores Presentació de les jornades i Taula oberta “Música en valencià\, amenaces i resistències”. Tractarem l’evolució històrica de la música en valencià i l’actual situació tenint en compte l’àmbit institucional. S’analitzaran les dificultats de fer música en la nostra llengua \, com també les resistències i l’actualitat d’aquest sector. També parlarem del futur de la música en aquest nou cicle polític\, per la qual cosa també comptarem amb noves generacions de músics de diferents estils.  Comptarem amb la participació de: Josep Nadal (diputat de Compromís i vocalista de La Gossa Sorda)\, Kiko Tur (vocalista d’Aspencat)\, Mireia (Pupil·les dilatives)\, Pau Alabajos (regidor de Compromís per Torrent i cantautor)\, Antonio Sánchez (vocalista de Zoo)\, Lluís Albert Granell (vocalista de Voltor)\, Joan Palomares (vocalista de ProzaK Soup) i Andreu Ferre (El Diluvi). Moderadora: Amàlia Garrigós (periodista).  En acabar la taula rodona tindrem una breu actuació del grup Aspencat en acústic.    Divendres 12 febrer  10.30 hores Taula rodona “Què hi ha darrere d’un festival? Experiències”. Parlarem amb representants de festivals musicals en la nostra llengua i amb regidors i tècnics municipals\, on debatrem els problemes i els avantatges que es troben els col·lectius a l’hora d’organitzar un concert\, tindrem en compte diferents perspectives com ara logística\, finançament\, legalitat\, grups musicals\, estils musicals… Vindran convidats organitzadors dels festivals: Xufa Rock\, Meruts Festival (Assemblea de Joves Meruts)\, Diània (Sinérgies Cooperativa Cultural)\, Feslloch\, Aplec dels Ports. Moderador: Xavier Aliaga (periodista).  12 hores Curs- taller: “L’organització d’un concert”. Taller per traure a la llum què necessitarem a l’hora de muntar un concert o festival. Aquest curs estarà destinat a col·lectius o grups que comencen. Vanessa Giner és gestora cultural i ens explicarà aspectes de l’àmbit legal\, llum i so\, finançament\, seguretat\, etc.  18.30 hores Petxa-Kutxa d’experiències culturals impulsades pel jovent:  Presentacions ràpides i fluides de projectes en què participaran entitats i associacions de l’àmbit cultural\, les quals ens explicaran el seu projecte\, com van començar i quines dificultats han trobat per tal de dur-ho a terme. Comptarem amb representats de les Falles Populars i Combatives\, Macromona\, MICE (Mostra Internacional de Cinema Educatiu)\, Fent Ciutat…També hi participaran membres d’organitzacions polítiques juvenils i representants municipals. Si voleu venir a contar la vostra experiència\, envieu-nos un correu a joves@acpv.cat. Les experiències es presentaran en format Petxakutxa (20 diapositives de 20 segons).  20.30 hores Concert de Cesk Freixas Entrada 5€ assistents a les jornades 7 / 10€ no assistents a les jornades   Dissabte 13 febrer  10 hores Taller de teatre en acció a càrrec d’Anna Gascón\, postgrau en Teatre i Educació\, especialista en teatre social i teatre de l’oprimit\, 20 anys d’experiència en teatre amb joves (Grup Amoraescena) i teatre en col·lectius (Teatre Lliure de Benimaclet). Per a inscriure’t i demanar més informació: joves@acpv.cat  Cloenda. Conclusions amb diferents agents culturals i polítics.  Organitzat per Joves d’Acció. Més informació i formulari d’inscripció.
URL:https://octubre.cat/activitat/cultura-en-accio/
LOCATION:No definit
CATEGORIES:Conferències i congressos
ATTACH;FMTTYPE=image/jpeg:https://octubre.cat/www/wp-content/uploads/2020/07/activitat2507.jpg
END:VEVENT
END:VCALENDAR