BEGIN:VCALENDAR
VERSION:2.0
PRODID:-//Octubre Centre de Cultura Contemporània - ECPv5.1.6//NONSGML v1.0//EN
CALSCALE:GREGORIAN
METHOD:PUBLISH
X-WR-CALNAME:Octubre Centre de Cultura Contemporània
X-ORIGINAL-URL:https://octubre.cat
X-WR-CALDESC:Events for Octubre Centre de Cultura Contemporània
BEGIN:VTIMEZONE
TZID:Europe/Andorra
BEGIN:DAYLIGHT
TZOFFSETFROM:+0100
TZOFFSETTO:+0200
TZNAME:CEST
DTSTART:20100328T010000
END:DAYLIGHT
BEGIN:STANDARD
TZOFFSETFROM:+0200
TZOFFSETTO:+0100
TZNAME:CET
DTSTART:20101031T010000
END:STANDARD
END:VTIMEZONE
BEGIN:VEVENT
DTSTART;TZID=Europe/Andorra:20101007T193000
DTEND;TZID=Europe/Andorra:20101007T193000
DTSTAMP:20260421T001005
CREATED:20200729T165119Z
LAST-MODIFIED:20200730T042601Z
UID:8967-1286479800-1286479800@octubre.cat
SUMMARY:Crisi econòmica i reforma laboral: un maridatge necessari?
DESCRIPTION:Dijous 7 d’octubre\, a les 19.30h: “Crisi econòmica i reforma laboral: un maridatge necessari?”\, conferència a càrrec d’Amat Sánchez Velasco (UV) i Carlos Alfonso Mellado (UV).   \n  \n  \n\nCrisi econòmica i reforma laboral: un maridatge necessari?  Hi intervindran:   Amat Sánchez Velasco\, professor titular d’Economia Aplicada de la Universitat de València.   Carlos Alfonso Mellado\, catedràtic de Dret del Treball i de la Seguretat Social de la Universitat de València i director de la Càtedra Caja Mediterráneo-ATA-Universitat de València sobre treball autònom.    Presenta: Fabiola Meco Tébar\, gerent de la Fundació CEPS.   Aquesta conferència s’insereix en el cicle de debats que mensualment organitza la Fundació CEPS.
URL:https://octubre.cat/activitat/crisi-economica-i-reforma-laboral-un-maridatge-necessari/
LOCATION:No definit
CATEGORIES:Conferències i congressos
ATTACH;FMTTYPE=image/jpeg:https://octubre.cat/www/wp-content/uploads/2020/07/conferencia1.jpg
END:VEVENT
END:VCALENDAR