BEGIN:VCALENDAR
VERSION:2.0
PRODID:-//Octubre Centre de Cultura Contemporània - ECPv5.1.6//NONSGML v1.0//EN
CALSCALE:GREGORIAN
METHOD:PUBLISH
X-WR-CALNAME:Octubre Centre de Cultura Contemporània
X-ORIGINAL-URL:https://octubre.cat
X-WR-CALDESC:Events for Octubre Centre de Cultura Contemporània
BEGIN:VTIMEZONE
TZID:Europe/Andorra
BEGIN:DAYLIGHT
TZOFFSETFROM:+0100
TZOFFSETTO:+0200
TZNAME:CEST
DTSTART:20110327T010000
END:DAYLIGHT
BEGIN:STANDARD
TZOFFSETFROM:+0200
TZOFFSETTO:+0100
TZNAME:CET
DTSTART:20111030T010000
END:STANDARD
END:VTIMEZONE
BEGIN:VEVENT
DTSTART;TZID=Europe/Andorra:20110226T190000
DTEND;TZID=Europe/Andorra:20110226T190000
DTSTAMP:20260420T170011
CREATED:20200729T165426Z
LAST-MODIFIED:20200730T042733Z
UID:9168-1298746800-1298746800@octubre.cat
SUMMARY:Cris Juanico + Lola Bou
DESCRIPTION:Dissabte 26 de febrer\, a les 19.00h: Cicle Dialeg(tes). Cris Juanico + Lola Bou.   \n  \n  \n\nAmb una prolífica carrera professional de prop de 20 anys i 17 treballs discogràfics\, Cris Juanico (Ciutadella de Menorca\, 1967) s’ha guanyat el respecte de públic i crítica\, compaginant amb sensatesa i cura les seves inquietuds musicals. Es va donar a conèixer amb el grup Ja t’ho diré\, grup del que fou membre fins 2003. També forma part de Menaix a truà i de La Banda Impossible. El 2004 va encetar una nova etapa artística amb Memòria\, el seu primer disc en solitari\, fet a partir d’un recull de cançons populars menorquines en clau de pop-rock. Els següents treballs foren Jocs d’amagat\, amb Els Mags de Binigall\, i Vola’m a sa lluna i Tot de mi\, al costat de l’Original Jazz Orquestra\, dos treballs amb estàndards del jazz adaptats al català. El passat 2010 va veure la llum Pedres que rallen\, un àlbum roquer fruit del retrobament amb els renovats Mags de Binigall.   La música ha sigut un procés poc acadèmic en la carrera de la castellonenca Lola Bou. Durant molts anys ha estat en silenci\, poc disposada a seguir les regles de l’estudi clàssic. Tot i així la passió per la música ha sigut\, sempre\, una realitat. Formada a l’Institut del Teatre\, ha treballat com a cantant\, ballarina i actriu amb algunes de les més emblemàtiques companyies i productores de teatre musical catalanes\, com Dagoll Dagom\, Tresx3\, Sémola Teatre\, GPD\, Comediants o Otello. Boleros y tangos de la mano (2003)\, disc on intervé com a cantant solista va representar l’inici d’una nova etapa artística en el camp de la creació musical. A aquest treball el seguiria Instants Eterns (Lemon Songs\, 2008)\, el seu debut com a compositora. El seu disc més recent\, el segon com a autora\, és La ment en blau (Lemon Songs\, 2010).   Aquest concert s’emmarca en el festival Tirant de Cançó\, que anualment convoca Acció Cultural del País Valencià en col·laboració amb diverses entitats i associacions.
URL:https://octubre.cat/activitat/cris-juanico-lola-bou/
LOCATION:No definit
CATEGORIES:Dialeg(tes)
ATTACH;FMTTYPE=image/jpeg:https://octubre.cat/www/wp-content/uploads/2020/07/activitat1392.jpg
END:VEVENT
END:VCALENDAR