BEGIN:VCALENDAR
VERSION:2.0
PRODID:-//Octubre Centre de Cultura Contemporània - ECPv5.1.6//NONSGML v1.0//EN
CALSCALE:GREGORIAN
METHOD:PUBLISH
X-WR-CALNAME:Octubre Centre de Cultura Contemporània
X-ORIGINAL-URL:https://octubre.cat
X-WR-CALDESC:Events for Octubre Centre de Cultura Contemporània
BEGIN:VTIMEZONE
TZID:Europe/Andorra
BEGIN:DAYLIGHT
TZOFFSETFROM:+0100
TZOFFSETTO:+0200
TZNAME:CEST
DTSTART:20170326T010000
END:DAYLIGHT
BEGIN:STANDARD
TZOFFSETFROM:+0200
TZOFFSETTO:+0100
TZNAME:CET
DTSTART:20171029T010000
END:STANDARD
END:VTIMEZONE
BEGIN:VEVENT
DTSTART;TZID=Europe/Andorra:20170522T170000
DTEND;TZID=Europe/Andorra:20170522T170000
DTSTAMP:20260421T151537
CREATED:20200729T172607Z
LAST-MODIFIED:20200729T185831Z
UID:11147-1495472400-1495472400@octubre.cat
SUMMARY:Converses Compromís
DESCRIPTION:Dilluns 22 de maig a les 17.00h. Conversa amb Elena Cebrián\, consellera d’Agricultura de la Generalitat Valenciana.Presentada per Joan Baldoví\, diputat al Congrés espanyol per Compromís. Organitzat per la Coalició Compromís.  \n  \n  \n\n Conversa amb Elena Cebrián Calvo\, consellera d’Agricultura\, Medi Ambient\, Canvi Climàtic i Desenvolupament Rural de la Generalitat Valenciana.  Presentada per Joan Baldoví\, diputat al Congrés espanyol per Compromís.  Organitzat per la Coalició Compromís.  (foto: Diari La Veu)
URL:https://octubre.cat/activitat/converses-compromis/
LOCATION:Sala d’actes
CATEGORIES:Conferències i congressos
ATTACH;FMTTYPE=image/jpeg:https://octubre.cat/www/wp-content/uploads/2020/07/activitat2833.jpg
END:VEVENT
END:VCALENDAR