BEGIN:VCALENDAR
VERSION:2.0
PRODID:-//Octubre Centre de Cultura Contemporània - ECPv5.1.6//NONSGML v1.0//EN
CALSCALE:GREGORIAN
METHOD:PUBLISH
X-WR-CALNAME:Octubre Centre de Cultura Contemporània
X-ORIGINAL-URL:https://octubre.cat
X-WR-CALDESC:Events for Octubre Centre de Cultura Contemporània
BEGIN:VTIMEZONE
TZID:Europe/Andorra
BEGIN:DAYLIGHT
TZOFFSETFROM:+0100
TZOFFSETTO:+0200
TZNAME:CEST
DTSTART:20220327T010000
END:DAYLIGHT
BEGIN:STANDARD
TZOFFSETFROM:+0200
TZOFFSETTO:+0100
TZNAME:CET
DTSTART:20221030T010000
END:STANDARD
END:VTIMEZONE
BEGIN:VEVENT
DTSTART;TZID=Europe/Andorra:20220928T190000
DTEND;TZID=Europe/Andorra:20220928T190000
DTSTAMP:20260421T180809
CREATED:20220523T155954Z
LAST-MODIFIED:20250629T103320Z
UID:18354-1664391600-1664391600@octubre.cat
SUMMARY:Converses amb Joan Fuster: «L’art de provocar: Gabriel Ferrater\, Joan Fuster i Blai Bonet»
DESCRIPTION:Amb la participació de:\n—Jordi Cornudella\n—Enric Sòria\n—Marta Pessarrodona\n—Sebastià Alzamora\n—Pau Vadell\nModeren Àngels Gregori i Carme Castells \n  \n \n—\nOrganitzat per l’Acadèmia Valenciana de la Llengua i el PEN Català amb la col·laboració de l’Octubre CCC.
URL:https://octubre.cat/activitat/converses-amb-joan-fuster-lart-de-provocar/
LOCATION:Hall
CATEGORIES:Any Joan Fuster 2022,Conferències i congressos,Literatura
ATTACH;FMTTYPE=image/jpeg:https://octubre.cat/www/wp-content/uploads/2022/05/joan_fuster.jpg
END:VEVENT
END:VCALENDAR