BEGIN:VCALENDAR
VERSION:2.0
PRODID:-//Octubre Centre de Cultura Contemporània - ECPv5.1.6//NONSGML v1.0//EN
CALSCALE:GREGORIAN
METHOD:PUBLISH
X-WR-CALNAME:Octubre Centre de Cultura Contemporània
X-ORIGINAL-URL:https://octubre.cat
X-WR-CALDESC:Events for Octubre Centre de Cultura Contemporània
BEGIN:VTIMEZONE
TZID:Europe/Andorra
BEGIN:DAYLIGHT
TZOFFSETFROM:+0100
TZOFFSETTO:+0200
TZNAME:CEST
DTSTART:20160327T010000
END:DAYLIGHT
BEGIN:STANDARD
TZOFFSETFROM:+0200
TZOFFSETTO:+0100
TZNAME:CET
DTSTART:20161030T010000
END:STANDARD
END:VTIMEZONE
BEGIN:VEVENT
DTSTART;TZID=Europe/Andorra:20160405T190000
DTEND;TZID=Europe/Andorra:20160405T190000
DTSTAMP:20260421T172523
CREATED:20200729T171741Z
LAST-MODIFIED:20200729T185445Z
UID:10603-1459882800-1459882800@octubre.cat
SUMMARY:Converses amb Iniciativa: projecció de 'B\, la película'
DESCRIPTION:Dimarts 5 d’abril a les 19.00h. Organitzat per Iniciativa del Poble Valencià amb la participació d’Ignacio Blanco\, Mireia Mollà i Francisco José Urdiales.  \n  \n  \n\n Dins de la nova etapa de  “Converses amb Iniciativa” projectem B\, la película\, on es fa una reconstrucció de l’interrogatori al que fou sotmés Luis Bárcenas\, tresorer del Partit Popular\, pel jutge Ruz.  Una volta vista la pel·licula\, farem un col.loqui en el que hi intervindran Ignacio Blanco i Mireia Mollà\, (tant Ignacio com Mireia han sigut dos dels diputats que més han denunciat la corrupció a les Corts Valencianes) parlant de la corrupció que hem patit estos anys i Francisco José Urdiales\, productor del film\, sobre els entrebancs que hagueren de superar per poder dur endavant el seu projecte.  Fitxa tècnica: Director: David Ilundain (2015) Guió: Jordi Casanovas\, David Ilundain Fotografia: Ángel Amorós Repartiment: Pedro Casablanc\, Manolo Solo\, Pedro Civera\, Eduardo Recabarren\, Patxi Freytez\, Celia Castro\, Enric Benavent\, Ramón Ibarra\, Carlos Olalla\, Sara Illán\, Joaquín Climent Productora: Inicia Films Durada: 78’  Organitza: Iniciativa del Poble Valencià – Coalició Compromís\, de la Ciutat de València.
URL:https://octubre.cat/activitat/converses-amb-iniciativa-projeccio-de-b-la-pelicula/
LOCATION:Sala d’actes
CATEGORIES:Cinema
ATTACH;FMTTYPE=image/jpeg:https://octubre.cat/www/wp-content/uploads/2020/07/activitat2550.jpg
END:VEVENT
END:VCALENDAR