BEGIN:VCALENDAR
VERSION:2.0
PRODID:-//Octubre Centre de Cultura Contemporània - ECPv5.1.6//NONSGML v1.0//EN
CALSCALE:GREGORIAN
METHOD:PUBLISH
X-WR-CALNAME:Octubre Centre de Cultura Contemporània
X-ORIGINAL-URL:https://octubre.cat
X-WR-CALDESC:Events for Octubre Centre de Cultura Contemporània
BEGIN:VTIMEZONE
TZID:Europe/Andorra
BEGIN:DAYLIGHT
TZOFFSETFROM:+0100
TZOFFSETTO:+0200
TZNAME:CEST
DTSTART:20080330T010000
END:DAYLIGHT
BEGIN:STANDARD
TZOFFSETFROM:+0200
TZOFFSETTO:+0100
TZNAME:CET
DTSTART:20081026T010000
END:STANDARD
END:VTIMEZONE
BEGIN:VEVENT
DTSTART;TZID=Europe/Andorra:20080117T190000
DTEND;TZID=Europe/Andorra:20080117T190000
DTSTAMP:20260420T192731
CREATED:20200729T181631Z
LAST-MODIFIED:20200730T035547Z
UID:12436-1200596400-1200596400@octubre.cat
SUMMARY:Conversa sobre les fronteres de la novel·la
DESCRIPTION:Conversa sobre les fronteres de la novel·la\, en ocasió de la publicació de L’home manuscrit\, de Manuel Baixauli. Hi participen Manuel Baixauli\, Jaume Pérez Montaner i Joan Garí.  \n  \n  \n\nConversa sobre les fronteres de la novel·la\, en ocasió de la publicació de L’home manuscrit (Editorial Moll)\, de Manuel Baixauli.  Hi participen Manuel Baixauli\, Jaume Pérez Montaner i Joan Garí.  Organitza l’Editorial Moll
URL:https://octubre.cat/activitat/conversa-sobre-les-fronteres-de-la-novella/
LOCATION:No definit
CATEGORIES:Literatura
ATTACH;FMTTYPE=image/jpeg:https://octubre.cat/www/wp-content/uploads/2020/07/presentacions1.jpg
END:VEVENT
END:VCALENDAR