BEGIN:VCALENDAR
VERSION:2.0
PRODID:-//Octubre Centre de Cultura Contemporània - ECPv5.1.6//NONSGML v1.0//EN
CALSCALE:GREGORIAN
METHOD:PUBLISH
X-WR-CALNAME:Octubre Centre de Cultura Contemporània
X-ORIGINAL-URL:https://octubre.cat
X-WR-CALDESC:Events for Octubre Centre de Cultura Contemporània
BEGIN:VTIMEZONE
TZID:Europe/Andorra
BEGIN:DAYLIGHT
TZOFFSETFROM:+0100
TZOFFSETTO:+0200
TZNAME:CEST
DTSTART:20230326T010000
END:DAYLIGHT
BEGIN:STANDARD
TZOFFSETFROM:+0200
TZOFFSETTO:+0100
TZNAME:CET
DTSTART:20231029T010000
END:STANDARD
END:VTIMEZONE
BEGIN:VEVENT
DTSTART;TZID=Europe/Andorra:20230215T190000
DTEND;TZID=Europe/Andorra:20230215T190000
DTSTAMP:20260421T132556
CREATED:20230109T174226Z
LAST-MODIFIED:20250710T094123Z
UID:19263-1676487600-1676487600@octubre.cat
SUMMARY:Conversa «El poder dels mapes»\, amb Josep Vicent Boira i Vicent Partal
DESCRIPTION:Vicent Partal\, periodista\, membre de l’IEC i autor del llibre Fronteres. Aquelles línies que algú ha dibuixat sobre un mapa (Comanegra\, 2022) i Josep Vicent Boira\, catedràtic de Geografia de la Universitat de València\, membre de l’IEC i autor del llibre La Via Augusta del segle XXI. El corredor del mediterrani contra l’Espanya radial (Premi Carles Rahola d’assaig 2021\, Pòrtic). \nModera: Reis Juan\, periodista \n  \n \n—\nL’Espai Ciència de l’Octubre CCC és una iniciativa de l’Institut d’Estudis Catalans i compta amb la col·laboració d’Acció Cultural del País Valencià\, la Unitat de Cultura Científica i Innovació / Càtedra de Divulgació de la Ciència de la UV\, la Fundació Espanyola per a la Ciència i la Tecnologia\, el Centre Superior d’Investigacions Científiques\, la llibreria Fan Set i la revista Mètode.
URL:https://octubre.cat/activitat/conversa-el-poder-dels-mapes-amb-josep-vicent-boira-i-vicent-partal/
LOCATION:Sala d’actes
CATEGORIES:Espai Ciència
ATTACH;FMTTYPE=image/jpeg:https://octubre.cat/www/wp-content/uploads/2023/01/mapa-PGM_.jpg
END:VEVENT
END:VCALENDAR