BEGIN:VCALENDAR
VERSION:2.0
PRODID:-//Octubre Centre de Cultura Contemporània - ECPv5.1.6//NONSGML v1.0//EN
CALSCALE:GREGORIAN
METHOD:PUBLISH
X-WR-CALNAME:Octubre Centre de Cultura Contemporània
X-ORIGINAL-URL:https://octubre.cat
X-WR-CALDESC:Events for Octubre Centre de Cultura Contemporània
BEGIN:VTIMEZONE
TZID:Europe/Andorra
BEGIN:DAYLIGHT
TZOFFSETFROM:+0100
TZOFFSETTO:+0200
TZNAME:CEST
DTSTART:20190331T010000
END:DAYLIGHT
BEGIN:STANDARD
TZOFFSETFROM:+0200
TZOFFSETTO:+0100
TZNAME:CET
DTSTART:20191027T010000
END:STANDARD
END:VTIMEZONE
BEGIN:VEVENT
DTSTART;TZID=Europe/Andorra:20190110T190000
DTEND;TZID=Europe/Andorra:20190110T190000
DTSTAMP:20260421T104945
CREATED:20200729T173239Z
LAST-MODIFIED:20200729T191025Z
UID:11344-1547146800-1547146800@octubre.cat
SUMMARY:Conversa amb Toni Mollà i Tobies Grimaltos
DESCRIPTION:Dijous 10 de gener a les 19.00h. Presentació dels llibres Tot entra en el pes de Toni Mollà i Quan em jubilaré de Tobies Grimaltos.	 \n  \n  \n\n 	 Presentació dels llibres Tot entra en el pes de Toni Mollà (Vincle) i Quan em jubilaré de Tobies Grimaltos (Bromera). Conversa dels dos autors amb Manolo Gil (editor).
URL:https://octubre.cat/activitat/conversa-amb-toni-molla-i-tobies-grimaltos/
LOCATION:Llibreria Fan Set
CATEGORIES:Literatura
ATTACH;FMTTYPE=image/jpeg:https://octubre.cat/www/wp-content/uploads/2020/07/activitat3189.jpg
END:VEVENT
END:VCALENDAR