BEGIN:VCALENDAR
VERSION:2.0
PRODID:-//Octubre Centre de Cultura Contemporània - ECPv5.1.6//NONSGML v1.0//EN
CALSCALE:GREGORIAN
METHOD:PUBLISH
X-WR-CALNAME:Octubre Centre de Cultura Contemporània
X-ORIGINAL-URL:https://octubre.cat
X-WR-CALDESC:Events for Octubre Centre de Cultura Contemporània
BEGIN:VTIMEZONE
TZID:Europe/Andorra
BEGIN:DAYLIGHT
TZOFFSETFROM:+0100
TZOFFSETTO:+0200
TZNAME:CEST
DTSTART:20230326T010000
END:DAYLIGHT
BEGIN:STANDARD
TZOFFSETFROM:+0200
TZOFFSETTO:+0100
TZNAME:CET
DTSTART:20231029T010000
END:STANDARD
END:VTIMEZONE
BEGIN:VEVENT
DTSTART;TZID=Europe/Andorra:20231019T190000
DTEND;TZID=Europe/Andorra:20231019T190000
DTSTAMP:20260420T130731
CREATED:20230917T103011Z
LAST-MODIFIED:20250710T094154Z
UID:20381-1697742000-1697742000@octubre.cat
SUMMARY:Conversa amb Ramon Folch i Andreu Escrivà: «Som una espècie devastadora\, però tenim remei?»
DESCRIPTION:Ramon Folch és ecosociòleg\, membre de l’IEC i autor del llibre Abecedari socioecològic (Monografies Mètode\, 2021). \nAndreu Escrivà és ambientòleg i autor dels llibres La crisi climàtica (Bromera 2023) i Contra la sostenibilitat (Sembra 2023). \nModera: Reis Juan\, periodista \n  \n \n—\nL’Espai Ciència de l’Octubre CCC és una iniciativa de l’Institut d’Estudis Catalans i compta amb la col·laboració d’Acció Cultural del País Valencià\, la Unitat de Cultura Científica i Innovació / Càtedra de Divulgació de la Ciència de la UV\, la Fundació Espanyola per a la Ciència i la Tecnologia\, el Centre Superior d’Investigacions Científiques\, la llibreria Fan Set i la revista Mètode.
URL:https://octubre.cat/activitat/conversa-amb-ramon-folch-i-andreu-escriva-som-una-especie-devastadora-pero-tenim-remei/
LOCATION:Sala d’actes
CATEGORIES:Espai Ciència
ATTACH;FMTTYPE=image/jpeg:https://octubre.cat/www/wp-content/uploads/2023/09/folch_escriva.jpg
END:VEVENT
END:VCALENDAR