BEGIN:VCALENDAR
VERSION:2.0
PRODID:-//Octubre Centre de Cultura Contemporània - ECPv5.1.6//NONSGML v1.0//EN
CALSCALE:GREGORIAN
METHOD:PUBLISH
X-WR-CALNAME:Octubre Centre de Cultura Contemporània
X-ORIGINAL-URL:https://octubre.cat
X-WR-CALDESC:Events for Octubre Centre de Cultura Contemporània
BEGIN:VTIMEZONE
TZID:Europe/Andorra
BEGIN:DAYLIGHT
TZOFFSETFROM:+0100
TZOFFSETTO:+0200
TZNAME:CEST
DTSTART:20150329T010000
END:DAYLIGHT
BEGIN:STANDARD
TZOFFSETFROM:+0200
TZOFFSETTO:+0100
TZNAME:CET
DTSTART:20151025T010000
END:STANDARD
END:VTIMEZONE
BEGIN:VEVENT
DTSTART;TZID=Europe/Andorra:20151202T193000
DTEND;TZID=Europe/Andorra:20151202T193000
DTSTAMP:20260421T182443
CREATED:20200729T171452Z
LAST-MODIFIED:20200730T041619Z
UID:10425-1449084600-1449084600@octubre.cat
SUMMARY:Conversa amb Manuel Alcaraz\, conseller de Transparència i Participació
DESCRIPTION:Dimecres 2 de desembre a les 19.30h (nou horari). Com fer realitat una democràcia participativa? Amb Tino Villora\, Beatriz Garrote i Joan Romero.  \n  \n  \n\n Com fer realitat una democràcia participativa?   Conversa i debat amb el conseller de Transparència i Participació de la Generalitat Valenciana.  Amb Tino Villora\, membre de Salvem el Cabanyal Beatriz Garrote\, membre de l’Associació de Víctimes del Metro Joan Romero\, catedràtic de Geografia de la Universitat de València Manuel Alcaraz\, conseller  Amb la participació de representants de la Xarxa d’Entitats del País Valencià.  Organitzat per Acció Cultural del País Valencià (ACPV).
URL:https://octubre.cat/activitat/conversa-amb-manuel-alcaraz-conseller-de-transparencia-i-participacio/
CATEGORIES:Conferències i congressos
ATTACH;FMTTYPE=image/jpeg:https://octubre.cat/www/wp-content/uploads/2020/07/activitat2459.jpg
END:VEVENT
END:VCALENDAR