BEGIN:VCALENDAR
VERSION:2.0
PRODID:-//Octubre Centre de Cultura Contemporània - ECPv5.1.6//NONSGML v1.0//EN
CALSCALE:GREGORIAN
METHOD:PUBLISH
X-WR-CALNAME:Octubre Centre de Cultura Contemporània
X-ORIGINAL-URL:https://octubre.cat
X-WR-CALDESC:Events for Octubre Centre de Cultura Contemporània
BEGIN:VTIMEZONE
TZID:Europe/Andorra
BEGIN:DAYLIGHT
TZOFFSETFROM:+0100
TZOFFSETTO:+0200
TZNAME:CEST
DTSTART:20220327T010000
END:DAYLIGHT
BEGIN:STANDARD
TZOFFSETFROM:+0200
TZOFFSETTO:+0100
TZNAME:CET
DTSTART:20221030T010000
END:STANDARD
END:VTIMEZONE
BEGIN:VEVENT
DTSTART;TZID=Europe/Andorra:20221005T190000
DTEND;TZID=Europe/Andorra:20221005T190000
DTSTAMP:20260421T193845
CREATED:20220912T090821Z
LAST-MODIFIED:20250629T101851Z
UID:18701-1664996400-1664996400@octubre.cat
SUMMARY:Conversa amb Josep Bernabeu Mestre: «Pot un virus explicar una pandèmia?»
DESCRIPTION:Pot un virus explicar una pandèmia? Quins factors promouen el comportament epidèmic de les malalties infeccioses? Una mirada al passat ens pot donar algunes claus. \nConversa al voltant del llibre Pandèmia. Quan el passat és el pròleg del futur \na càrrec de\n—Josep Bernabeu Mestre\, catedràtic d’història de la ciència de la Universitat d’Alacant i autor del llibre\n—Reis Juan\, periodista \nAmb la pregunta «pot un virus explicar una pandèmia?» se centra des de l’inici la qüestió clau que pot ajudar a entendre\, de manera didàctica\, la complexitat dels factors que estan darrere d’una pandèmia. A partir de la idea que cada període i civilització ha comportat una càrrega de malaltia lligada als canvis en les formes de vida i els problemes d’adaptació que comporten\, en successius apartats s’explica com han anat sorgint les malalties de naturalesa infecciosa que han acompanyat a l’espècie humana\, amb una atenció particular als factors que expliquen la seua difusió i comportament epidèmic. Des dels supòsits d’allò que coneixem com la història aplicada\, l’assaig fa un ús del passat per a entendre el present i encarar el futur. El lector trobarà les claus per a interpretar de manera crítica la realitat que comporta una pandèmia i com poder afrontar-la des del coneixement. \n(Edicions del Bullent)
URL:https://octubre.cat/activitat/conversa-amb-josep-bernabeu-mestre-pot-un-virus-explicar-una-pandemia/
LOCATION:Aula 1
CATEGORIES:Espai Ciència
ATTACH;FMTTYPE=image/jpeg:https://octubre.cat/www/wp-content/uploads/2022/09/Josep-Bernabeu-Mestre.jpg
END:VEVENT
END:VCALENDAR