BEGIN:VCALENDAR
VERSION:2.0
PRODID:-//Octubre Centre de Cultura Contemporània - ECPv5.1.6//NONSGML v1.0//EN
CALSCALE:GREGORIAN
METHOD:PUBLISH
X-WR-CALNAME:Octubre Centre de Cultura Contemporània
X-ORIGINAL-URL:https://octubre.cat
X-WR-CALDESC:Events for Octubre Centre de Cultura Contemporània
BEGIN:VTIMEZONE
TZID:Europe/Andorra
BEGIN:DAYLIGHT
TZOFFSETFROM:+0100
TZOFFSETTO:+0200
TZNAME:CEST
DTSTART:20170326T010000
END:DAYLIGHT
BEGIN:STANDARD
TZOFFSETFROM:+0200
TZOFFSETTO:+0100
TZNAME:CET
DTSTART:20171029T010000
END:STANDARD
END:VTIMEZONE
BEGIN:VEVENT
DTSTART;TZID=Europe/Andorra:20170203T200000
DTEND;TZID=Europe/Andorra:20170203T200000
DTSTAMP:20260420T222757
CREATED:20200729T172334Z
LAST-MODIFIED:20200729T185724Z
UID:10979-1486152000-1486152000@octubre.cat
SUMMARY:ContraBand
DESCRIPTION:Divendres 3 de febrer a les 20.00h. Presentació del seu primer disc Balas Perdidas. 5€ a taquilla.  \n  \n  \n\n Presenten el seu primer disc\, Balas Perdidas.  ContraBand és un grup joveníssim de l’Horta Nord que acaba de publicar el seu primer disc Balas Perdidas\, en el qual barregen gèneres com el punk-rock\, l’ska i el reggae. Políglotes declarats\, canten els temes en català\, en castellà\, en anglès i en francès.  Entrades: 5 euros a taquilla. Reserva d’entrades al tel. 963157799. Apertura de portes: 19.30h  — Espai Octubre Concerts és una iniciativa de l’Octubre CCC gestionada per les productores musicals Metrònom\, Play Producciones\,  Mésdemil i lacasacalba.org.
URL:https://octubre.cat/activitat/contraband/
CATEGORIES:Espai Octubre Concerts
ATTACH;FMTTYPE=image/jpeg:https://octubre.cat/www/wp-content/uploads/2020/07/activitat2751.jpg
END:VEVENT
END:VCALENDAR