BEGIN:VCALENDAR
VERSION:2.0
PRODID:-//Octubre Centre de Cultura Contemporània - ECPv5.1.6//NONSGML v1.0//EN
CALSCALE:GREGORIAN
METHOD:PUBLISH
X-WR-CALNAME:Octubre Centre de Cultura Contemporània
X-ORIGINAL-URL:https://octubre.cat
X-WR-CALDESC:Events for Octubre Centre de Cultura Contemporània
BEGIN:VTIMEZONE
TZID:Europe/Andorra
BEGIN:DAYLIGHT
TZOFFSETFROM:+0100
TZOFFSETTO:+0200
TZNAME:CEST
DTSTART:20100328T010000
END:DAYLIGHT
BEGIN:STANDARD
TZOFFSETFROM:+0200
TZOFFSETTO:+0100
TZNAME:CET
DTSTART:20101031T010000
END:STANDARD
END:VTIMEZONE
BEGIN:VEVENT
DTSTART;TZID=Europe/Andorra:20100128T193000
DTEND;TZID=Europe/Andorra:20100128T193000
DTSTAMP:20260420T223247
CREATED:20200729T182652Z
LAST-MODIFIED:20200729T182652Z
UID:12957-1264707000-1264707000@octubre.cat
SUMMARY:Consum i consumistes. De la necessitat al luxe
DESCRIPTION:Dijous 29 de gener\, a les 19.30h: “Consum i consumistes. De la necessitat al luxe”\, conferència a càrrec  de Joaquim Sempere (Universitat de Barcelona).   \n  \n  \n\nECO. Topant contra els límits del planeta Debats en un món globalitzat  Conferència “Consum i consumistes. De la necessitat al luxe”\, a càrrec de Joaquim Sempere.  Tercera i última conferència del cicle de pensament ambiental de l’IdT (hivern 2009-2010).   Joaquim Sempere (Barcelona\, 1941) és doctor en Filosofia per la Universitat de Barcelona i llicenciat en Sociologia per la Universitat de París X. Ha sigut director de la revista Nous Horitzons i és membre del consell editorial de la revista Mientras tanto. Actualment\, és professor de Sociologia de la Universitat de Barcelona\, especialitzat en temes de medi ambient i treballa en investigacions sobre les necessitats humanes i sobre el paper de la ciència i els experts en els conflictes socioecològics.   “La nostra societat ha relligat el seu destí a una organització fundada en l’acumulació il·limitada. Quan el creixement s’alenteix\, arriba la crisi\, fins i tot el pànic.”  Serge Latouche
URL:https://octubre.cat/activitat/consum-i-consumistes-de-la-necessitat-al-luxe/
LOCATION:No definit
CATEGORIES:Institut del Territori
ATTACH;FMTTYPE=image/jpeg:https://octubre.cat/www/wp-content/uploads/2020/07/activitat991.jpg
END:VEVENT
END:VCALENDAR