BEGIN:VCALENDAR
VERSION:2.0
PRODID:-//Octubre Centre de Cultura Contemporània - ECPv5.1.6//NONSGML v1.0//EN
CALSCALE:GREGORIAN
METHOD:PUBLISH
X-WR-CALNAME:Octubre Centre de Cultura Contemporània
X-ORIGINAL-URL:https://octubre.cat
X-WR-CALDESC:Events for Octubre Centre de Cultura Contemporània
BEGIN:VTIMEZONE
TZID:Europe/Andorra
BEGIN:DAYLIGHT
TZOFFSETFROM:+0100
TZOFFSETTO:+0200
TZNAME:CEST
DTSTART:20170326T010000
END:DAYLIGHT
BEGIN:STANDARD
TZOFFSETFROM:+0200
TZOFFSETTO:+0100
TZNAME:CET
DTSTART:20171029T010000
END:STANDARD
END:VTIMEZONE
BEGIN:VEVENT
DTSTART;TZID=Europe/Andorra:20170608T190000
DTEND;TZID=Europe/Andorra:20170608T190000
DTSTAMP:20260421T132201
CREATED:20200729T172417Z
LAST-MODIFIED:20200729T185742Z
UID:11027-1496948400-1496948400@octubre.cat
SUMMARY:Consuelo Guerri
DESCRIPTION:Dijous 8 de juny a les 19.00h. Cicle de Converses a l’Espai Ciència\, avui amb Consuelo Guerri\, directora del grup de Patologia Cel·lular i Molecular de l’alcohol del Centre d’Investigació Príncep Felip (CIPF)\, especialista en la síndrome alcohòlica fetal.  \n  \n  \n\n Converses a l’Espai Ciència 2017 Investigació científica per millorar la nostra vida  “La periodista Reis Juan condueix un programa de ràdio sense ràdio\, amb el suport tècnic de Pepe Moreno.”  Consuelo Guerri Directora del grup de Patologia Cel·lular i Molecular de l’alcohol del Centre d’Investigació Príncep Felip (CIPF)\, especialista en la síndrome alcohòlica fetal.  Consuelo Guerri és doctora en Biologia i Bioquímica\, ha investigat al Departament de Bioquímica de la Universitat de Kansas City i ha estat professora investigadora associada dels Departaments de Bioquímica i Farmacologia de la Facultat de Medicina\, Universitat de Kansas City (1978-1983). Cap del laboratori de Patologia Cel·lular de l’Institut d’Investigacions citològiques (1979-2005) i\, posteriorment\, del Centre d’Investigació Príncep Felip (CIFP). Membre directiu de diferents societats científiques europees i internacionals. Ha publicat més 160 treballs en revistes internacionals i capítols de llibre. El seu interès científic s’ha centrat en els mecanismes moleculars i cel·lulars de la toxicitat de l’alcohol en el cervell adult i en el desenvolupament (síndrome alcohòlica fetal i adolescència). Les seues aportacions científiques han estat reconegudes per premis internacionals (FAS-RSA-2001\, RSA-NIAAA 2002\, Manfred Lautenschlaeger Award\, 2011) i nacionals (Premi Isabel de Villena\, 2012\, Medalla de plata de l’Ordre al Mèrit del Pla Nacional sobre Drogues\, Ministeri de Sanitat\, Serveis Socials i Igualtat\, 2016).  L’Espai Ciència és un programa d’activitats patrocinat per l’Institut d’Estudis Catalans\, Acció Cultural del País Valencià i la Càtedra de Divulgació de la Ciència/Unitat de Cultura Científica de la Universitat de València\, amb el suport del CSIC. Col·laboren en aquesta activitat: Llibreria 3i4\, Vilaweb\, cartellera Turia i revista Mètode.
URL:https://octubre.cat/activitat/consuelo-guerri/
LOCATION:Sala d’actes
CATEGORIES:Espai Ciència
ATTACH;FMTTYPE=image/jpeg:https://octubre.cat/www/wp-content/uploads/2020/07/activitat2773.jpg
END:VEVENT
END:VCALENDAR