BEGIN:VCALENDAR
VERSION:2.0
PRODID:-//Octubre Centre de Cultura Contemporània - ECPv5.1.6//NONSGML v1.0//EN
CALSCALE:GREGORIAN
METHOD:PUBLISH
X-WR-CALNAME:Octubre Centre de Cultura Contemporània
X-ORIGINAL-URL:https://octubre.cat
X-WR-CALDESC:Events for Octubre Centre de Cultura Contemporània
BEGIN:VTIMEZONE
TZID:Europe/Andorra
BEGIN:DAYLIGHT
TZOFFSETFROM:+0100
TZOFFSETTO:+0200
TZNAME:CEST
DTSTART:20230326T010000
END:DAYLIGHT
BEGIN:STANDARD
TZOFFSETFROM:+0200
TZOFFSETTO:+0100
TZNAME:CET
DTSTART:20231029T010000
END:STANDARD
END:VTIMEZONE
BEGIN:VEVENT
DTSTART;TZID=Europe/Andorra:20230524T190000
DTEND;TZID=Europe/Andorra:20230524T190000
DTSTAMP:20260421T150308
CREATED:20230522T092842Z
LAST-MODIFIED:20250710T095955Z
UID:20012-1684954800-1684954800@octubre.cat
SUMMARY:Construint la Xarxa d’Art\, Ciència\, Tecnologia i Societat (ACTS)
DESCRIPTION:Xarxa ACTS (ART\, CIÈNCIA\, TECNOLOGIA i SOCIETAT) organitza la primera trobada de presentació del node València. Un dels seus objectius és crear entre tots/es un mapa visible dels agents actius ACTS (institucions\, associacions\, col·lectius\, curadors\, artistes\, científics\, enginyers\, etc.). El commutador ART és fonamental per a aquest projecte de visibilització i col·laboració. \nLa Xarxa ACTS és una iniciativa impulsada per la Universitat Oberta de Catalunya (UOC)\, Hac Te Barcelona i la Fundació Daniel i Nina Carasso\, amb la coordinació de la Universitat Politècnica de València (UPV) en el node local de València. \n—\nOrganitzat per la RED ACTS amb la col·laboració de l’Octubre CCC.\nMés informació també a HAC TE.\nImatge superior: “Chemical Ecosystem”- Yolanda Uriz.
URL:https://octubre.cat/activitat/construint-la-xarxa-dart-ciencia-tecnologia-i-societat-acts/
LOCATION:Àtic
CATEGORIES:Conferències i congressos
ATTACH;FMTTYPE=image/webp:https://octubre.cat/www/wp-content/uploads/2023/05/chemical-ecosystem-tom-mesic.webp
END:VEVENT
END:VCALENDAR