BEGIN:VCALENDAR
VERSION:2.0
PRODID:-//Octubre Centre de Cultura Contemporània - ECPv5.1.6//NONSGML v1.0//EN
CALSCALE:GREGORIAN
METHOD:PUBLISH
X-WR-CALNAME:Octubre Centre de Cultura Contemporània
X-ORIGINAL-URL:https://octubre.cat
X-WR-CALDESC:Events for Octubre Centre de Cultura Contemporània
BEGIN:VTIMEZONE
TZID:Europe/Andorra
BEGIN:DAYLIGHT
TZOFFSETFROM:+0100
TZOFFSETTO:+0200
TZNAME:CEST
DTSTART:20060326T010000
END:DAYLIGHT
BEGIN:STANDARD
TZOFFSETFROM:+0200
TZOFFSETTO:+0100
TZNAME:CET
DTSTART:20061029T010000
END:STANDARD
END:VTIMEZONE
BEGIN:VEVENT
DTSTART;TZID=Europe/Andorra:20061213T000000
DTEND;TZID=Europe/Andorra:20061215T220000
DTSTAMP:20260420T160935
CREATED:20251215T173836Z
LAST-MODIFIED:20251215T173836Z
UID:24266-1165968000-1166220000@octubre.cat
SUMMARY:Congrés “Les malíssimes. Bruixes\, sensuals i creadores"
DESCRIPTION:13 de desembre. Bruixes\, histèriques i religioses.\n–Presentació del congrés: Laia Climent\, Comissió de la Dona\n–Conferència “Dones en resistència” per Coral Cuadrada\, professora de la Universitat Rovira i Virgili\n–Taula rodona amb Coral Cuadrada (URV)\, Isabel Segura (UB)\, Teresa Forcada (feminista i monja benedictina) i Adela Ferrer (astròloga). Modera: Laia Climent \n14 de desembre. Sensualitat i feminisme\n–Conferència “Sensualitat\, luxúria\, histèria: la fatalitat de l’erotisme femení” per Isabel Clúa (doctora en Teoria de la Literatura i Literatura Comparada i professora de la Universitat Autònoma de Barcelona).\n–Taula rodona amb Isabel Clúa (UAB)\, Isabel-Clara Simó (periodista i escriptora) i Anna Noguera (regidora del PSPV de l’Ajuntament de València). Modera: Núria Cadenes \n15 de desembre. Dones i escriptura\n–Taula rodona amb Maria Antònia Oliver (novel·lista)\, Montserrat Abelló (poetessa) i Anna Montero (poetessa). Modera: Laia Climent\n–Conferència de cloenda: “La tercera dona: la femineïtat dels temps hipermoderns” per Gilles Lipovetsky\, autor de La tercera dona\, permanència i revolució d’allò femení.
URL:https://octubre.cat/activitat/congres-les-malissimes-bruixes-sensuals-i-creadores/
LOCATION:No definit
CATEGORIES:Espai Dona
ATTACH;FMTTYPE=image/jpeg:https://octubre.cat/www/wp-content/uploads/2020/07/conferencia1.jpg
END:VEVENT
END:VCALENDAR