BEGIN:VCALENDAR
VERSION:2.0
PRODID:-//Octubre Centre de Cultura Contemporània - ECPv5.1.6//NONSGML v1.0//EN
CALSCALE:GREGORIAN
METHOD:PUBLISH
X-WR-CALNAME:Octubre Centre de Cultura Contemporània
X-ORIGINAL-URL:https://octubre.cat
X-WR-CALDESC:Events for Octubre Centre de Cultura Contemporània
BEGIN:VTIMEZONE
TZID:Europe/Andorra
BEGIN:DAYLIGHT
TZOFFSETFROM:+0100
TZOFFSETTO:+0200
TZNAME:CEST
DTSTART:20080330T010000
END:DAYLIGHT
BEGIN:STANDARD
TZOFFSETFROM:+0200
TZOFFSETTO:+0100
TZNAME:CET
DTSTART:20081026T010000
END:STANDARD
END:VTIMEZONE
BEGIN:VEVENT
DTSTART;TZID=Europe/Andorra:20081016T000000
DTEND;TZID=Europe/Andorra:20081018T000000
DTSTAMP:20260420T172516
CREATED:20200729T181954Z
LAST-MODIFIED:20200730T035822Z
UID:12634-1224115200-1224288000@octubre.cat
SUMMARY:Congrés “Els processos migratoris a les terres de parla catalana (de l’època medieval a l’actualitat)”
DESCRIPTION:Del 16 al 18 d’octubre  \n  \n  \n\nOrganització: Coordinadora de Centres d’Estudis de Parla Catalana\, Institut Ramon Muntaner\, Federació d’Instituts d’Estudis Comarcals del País Valencià\, Universitat de València i Acció Cultural del País Valencià\,  amb la col•laboració de l’Octubre CCC   L’any 2008 es commemora el 800 aniversari del naixement de Jaume I. El seu regnat es distingeix per haver originat\, amb les conquestes de les Balears i de València\, un importantíssim moviment migratori per a repoblar les noves terres incorporades a la corona catalano-aragonesa. Les terres de parla catalana han viscut altres importants moviments migratoris al llarg de la seva història. El plantejament del VII Congrés de la Coordinadora de Centres d’Estudis de Parla Catalana (CCEPC) voldria tractar el tema migratori en tota la seva amplitud cronològica i territorial\, des de l’època medieval\, i fer-ho no exclusivament des d’una perspectiva historiogràfica\, sinó possibilitant mirades des de la sociologia\, la demografia\, l’etnografia o la literatura.   Dijous\, 16 d’octubre (Aula Magna de la Universitat de València\, Edifici La Nau\, carrer de la Universitat\,2)  19.00h: Obertura del congrés 19.30h:  Conferència inaugural. Dolors Bramon. Universitat de Barcelona: “La islamització. Hispània\, un procés migratori de musulmans”.   Divendres\, 17 d’octubre (Octubre CCC)  9.00h: Rebuda dels congressistes. Acreditacions i lliurament de material  La colonització feudal de la Catalunya Nova\, les Illes Balears i el País Valencià.  10.00h: Ponència. Enric Guinot. Universitat de València: “Migració i colonització feudal al País Valencià al segle XIII”. 10.45h: Pausa-cafè 11.15h Ponència. Ricardo Soto. Universitat de Barcelona: “La colonització feudal de Mallorca\, Eivissa i Menorca”. 12.00h:  Relació de comunicacions. Antoni Virgili. Universitat Autònoma de Barcelona\, Arxiu Bibliogràfic de Santes Creus. Debat  De l’expulsió dels jueus i moriscos a les immigracions franceses de l’època moderna.  16.00h: Ponència. Manuel Ardit. Universitat de València. “Moviments migratoris després de l’expulsió dels moriscos”. 16.45h:  Ponència. Antoni Mas. Universitat de les Illes Balears. “Pagesos per als senyors: l’emigració del Regne de Mallorca al Regne de València al segle XVII”. 17.30h:  Relcació de comunicacions. Oscar Jané. Centre d’Estudis Ribagorçans. Debat. 19.00h: Taula rodona. “Perspectives dels processos migratoris actuals”\, amb: -Antoni Ariño. Vicerector de la Universitat de València. -Santiago Castellà. Vicerector de la Universitat Rovira i Virgili -Manuel Delgado. Universitat de Barcelona. Institut Català d’Antrpologia -Joan Lacomba. Universitat de València. -Rafael Xambó. Universitat de València.   Dissabte\, 18 d’octubre (Octubre CCC)  Les migaracions contemporànies  10.00h: Ponència. Pere Salvà Tomàs. Universitat de les Illes Balears. “Les Illes Balears de terres d’emigrants a territoris d’immigració”. 10.45h: Pausa-cafè 11.15h:  Ponència. Andreu Domingo i Valls. Universitat Autònoma de Barcelona. Centre d’Estudis Demogràfics. “Els processos migratoris a la Catalunya Contemporània”. 12.00h: Relació de comunicacions. Andrés Piqueras. Universitat Jaume I. Debat  Llengua\, literatura i material etnogràfic vinculats als processos migratoris de les terres de parla catalana.  16.00h: Ponència. Lluís Messeguer. Universitat Jaume I. Centre d’Estudis dels Ports. “Local i universal: migracions i literatures”. 16.45h:  Ponència. Joan Peytaví Deixona. Universitat de Perpinyà. “La influència de les migracions occitanes i franceses sobre la llengua catalana (s. XV-XX): el cas del dialecte septentrional”. 17.30h: Relació de comunicacions\, Robert Martínez\, etnòleg. Debat 19.00h: Conferència de cloenda. Joan Armangué. Arxiu de Tradicions de l’Alguer. Universitat de Càller. “Repoblament i continuïtat cultural a l’Alguer (s. XIV-XVI)”.   Més informació CCEPC C. del Carme\, 47 08001 Barcelona Tel. 93 324 85 85 ext. 131 Fax 93 270 11 80
URL:https://octubre.cat/activitat/congres-els-processos-migratoris-a-les-terres-de-parla-catalana-de-lepoca-medieval-a-lactualitat/
LOCATION:No definit
CATEGORIES:Conferències i congressos
ATTACH;FMTTYPE=image/jpeg:https://octubre.cat/www/wp-content/uploads/2020/07/conferencia1.jpg
END:VEVENT
END:VCALENDAR