BEGIN:VCALENDAR
VERSION:2.0
PRODID:-//Octubre Centre de Cultura Contemporània - ECPv5.1.6//NONSGML v1.0//EN
CALSCALE:GREGORIAN
METHOD:PUBLISH
X-WR-CALNAME:Octubre Centre de Cultura Contemporània
X-ORIGINAL-URL:https://octubre.cat
X-WR-CALDESC:Events for Octubre Centre de Cultura Contemporània
BEGIN:VTIMEZONE
TZID:Europe/Andorra
BEGIN:DAYLIGHT
TZOFFSETFROM:+0100
TZOFFSETTO:+0200
TZNAME:CEST
DTSTART:20080330T010000
END:DAYLIGHT
BEGIN:STANDARD
TZOFFSETFROM:+0200
TZOFFSETTO:+0100
TZNAME:CET
DTSTART:20081026T010000
END:STANDARD
END:VTIMEZONE
BEGIN:VEVENT
DTSTART;TZID=Europe/Andorra:20081125T170000
DTEND;TZID=Europe/Andorra:20081128T220000
DTSTAMP:20260420T145025
CREATED:20200729T182057Z
LAST-MODIFIED:20251215T171004Z
UID:12697-1227632400-1227909600@octubre.cat
SUMMARY:Congrés 'Dones de l'Islam'
DESCRIPTION:Entre la tradició i la  transgressió\nDies: 25\, 26\, 27 i 28 de novembre 2008  Horari: de 17h00 a 22h00\nEl nou mil·leni obre les portes a grans canvis i noves percepcions de la realitat. En aquesta revolució social i mental\, les dones i els immigrants en són protagonistes. En concret\, les dones musulmanes\, a poc a poc\, van aconseguint veu i espai dins una societat clarament masculinitzada. Tanmateix\, la seva integració dins el nostre territori encara és ben complexa\, tot generant nous conceptes d’identitats nascuts d’una barreja de cultures i tradicions. \nDirectores:  Laia Climent (Universitat Jaume I) i Marina López (Universitat Jaume I)\nComitè científic: \n–Antònia Cabanilles (Universitat de València)\n–Maria Àngels Francés (Universitat d’Alacant)\n–Montserrat Palau (Universitat Rovira i Virgili)\n–Isabel Segura (Institut interuniversitari d’estudis de dones i gènere) \nDimarts 25 de novembre: Les dones i l’islam a la mediterrània\n–17.00h: Entrega de la documentació\n–17.30h: Conferència inaugural de Wassyla Tamzali\, advocada a Alger\, ex directora dels Drets de la Dona en la UNESCO: “L’excepció islàmica i el dret de les dones”\n–18.45h: Pausa café\n–19.00h: Conferència de Nouria Benghabrit-Remaoun\, Directora del Crasc (Centre de Recerca Antropològica\, social i cultural d’Algèria): “Viure l’Islam en femení” 20.15h: Pausa café 20.30h: “Corporalitat i sensualitat en les representacions artístiques”\, a càrrec de l’escola de dansa Ivana Mitcling i exhibició de la dansa del ventre     \nDimecres 26 de novembre: Treballs socials per a la mediació i la convivència intercultural\n–17.00h: Conferència: Ndeye Andújar\, co-directora del Congrés Internacional de Feminisme Islàmic: “La lluita pels drets de les dones musulmanes”\n–18.15h: pausa cafè\n–18.45h: Taula rodona “Conflictes i cultures a la fi del mil·lenni” amb Pierre Berthier (agregat cultural de diversos Instituts Francesos en països del Magreb i d’Europa)\, Dolors Bramon (Universitat de Barcelona)\, Ndeye Andújar (co-directora del Congrés Internacional de Feminisme Islamic)\, Wassyla Tamzali (advocada a Alger\, ex directora dels Drets de la Dona en la UNESCO).\n–20.15h: Pausa cafè\n–20.30h: Projecció de la pel·lícula “Maria i Assou” a càrrec d’Isona Passola\, de Massa d’Or Produccions i Presidenta d’APIMED (Associació Internacional de productors independents de la Mediterrània)\n–21.30h: Debat amb Isona Passola. \nDijous 27 de novembre: Dones i Islam als Països Catalans\n–17.00h: Taula rodona “Identitats creuades o noves identitats?” amb Laila Karrouch (autora de “De Nador a Vic”\, Premi Columna Jove 2004)\, Annachiara del Prete (Artista i investigadora dels grups GREC “Investigació interdisciplinar en gènere\, raça\, ètnia i classe” i del “Laboratori d’Aplicacions Telemàtiques en Educació” -L@TE- de la Universitat Rovira i Virgili)\, Salua l’Aouaji Gharbi (responsable de l’àrea de Diversitat Cultural Unescocat)\n–19.00h: pausa cafè\n–19.30h: Conferència de Salua l’Aouaji Gharbi\, responsable de l’àrea de Diversitat Cultural Unescocat: “Noves catalanes\, nous models de convivència”\n–20.45h: Projecció del muntatge d’Annachiara del Prete i debat \nDivendres 28 de novembre: Creació d’un model representatiu de dones\n–17.00h: Conferència de Marta Segarra (Universitat de Barcelona): “L’alliberament del cos femení en el cinema magribí de dones”\n–18.15h: pausa cafè\n–18.45h: Conferència de Josefina Bueno (Universitat d’Alacant): “Creació literaria i dones del Magrib: transgresió i feminisme en les literatures de la Mediterrània”\n–19.30h: Debat\n–20.15h: Pausa cafè\n–20.30h: Cloenda i entrega de certificats\n–21.00h: Olors i sabors d’Orient: sopar-degustació dels menjars d’Orient \nCONVALIDABLE PER 2 CRÈDITS DE LLIURE CONFIGURACIÓ (Universitat de València)  IMPORT DE LA MATRÍCULA\na) Estudiants de la Universitat de València (amb 2 crèdits) 30€\nb) Públic en general: 10 €\nDescompte per als socis d’Acció Cultural del País Valencià: 10% (en les dues modalitats)\nPer poder assistir al cicle s’ha de reomplir i enviar el formulari que apareix més avall a més de fer el pagament corresponent\,  amb data límit 21 de novembre\, a l’entitat bancària Caixa de Pensions nº de compte 2100/0700/12/0200294927. Al rebut bancari heu d’escriure en l’apartat concepte “Congrés Dones de l’Islam” i en nom del beneficiari Acció Cultural del País Valencià.  Important: Els rebuts els heu de fer arribar a l’OCCC\, C/ Sant Ferran\, 12. 46001 València a l’atenció de Sumsi Palau. O bé enviar-los a l’e-mail: spalau@octubre.cat o al fax 96 315 51 65.  Per als alumnes de la Universitat de valència la matrícula inclou els drets d’inscripció i un certificat d’assistència lliurat per l’Octubre Centre de Cultura Contemporània. L’assistència al curs és convalidable per dos crèdits de lliure configuració (el preu inclou les taxes de tramitació dels crèdits de lliure configuració).  Per al públic en general la matrícula inclou els drets d’inscripció i un certificat d’assistència lliurat per l’Octubre Centre de Cultura Contemporània.
URL:https://octubre.cat/activitat/congres-dones-de-lislam/
LOCATION:No definit
CATEGORIES:Espai Dona
ATTACH;FMTTYPE=image/jpeg:https://octubre.cat/www/wp-content/uploads/2020/07/activitat693.jpg
END:VEVENT
END:VCALENDAR