BEGIN:VCALENDAR
VERSION:2.0
PRODID:-//Octubre Centre de Cultura Contemporània - ECPv5.1.6//NONSGML v1.0//EN
CALSCALE:GREGORIAN
METHOD:PUBLISH
X-WR-CALNAME:Octubre Centre de Cultura Contemporània
X-ORIGINAL-URL:https://octubre.cat
X-WR-CALDESC:Events for Octubre Centre de Cultura Contemporània
BEGIN:VTIMEZONE
TZID:Europe/Andorra
BEGIN:DAYLIGHT
TZOFFSETFROM:+0100
TZOFFSETTO:+0200
TZNAME:CEST
DTSTART:20250330T010000
END:DAYLIGHT
BEGIN:STANDARD
TZOFFSETFROM:+0200
TZOFFSETTO:+0100
TZNAME:CET
DTSTART:20251026T010000
END:STANDARD
END:VTIMEZONE
BEGIN:VEVENT
DTSTART;TZID=Europe/Andorra:20251018T100000
DTEND;TZID=Europe/Andorra:20251018T100000
DTSTAMP:20260420T145659
CREATED:20251003T083224Z
LAST-MODIFIED:20251003T083224Z
UID:23753-1760781600-1760781600@octubre.cat
SUMMARY:Congrés de Cultura Catalana: «El dret a la llengua: reptes i oportunitats»
DESCRIPTION:El Congrés de Cultura Catalana segueix proposant diversos espais per abordar un debat profund sobre l’estat actual i els reptes de futur de la nostra llengua. En aquesta ocasió\, completem la programació de 3 trobades a l’entorn del tema amb una jornada a València\, que sorgeix a partir del llibre El dret a la llengua. Per una nova Declaració Universal de Drets Lingüístics amb perspectiva de futur\, coordinat per Vicenta Tasa Fuster\, i que comptarà amb experts en l’àmbit de la sociolingüística. \nPrograma \n1- Presentació\n—Anna Oliver\, presidenta Acció Cultural País Valencià\n—Esteve Plantada\, director Congrés de Cultura Catalana\n—Gustau Muñoz\, vicepresident al País Valencià del PEN Català \n2- Taula 1: Educació\, immigració i drets lingüístics\n—Vicenta Tasa\, professora de Dret Constitucional de la Universitat de València i cap del Comitè de Drets Lingüístics del PEN Català\n—Pere Comellas\, lingüista\, professor a la Universitat de Barcelona\, traductor i escriptor \n3- Taula 2: El futur de la llengua: una qüestió de drets\n—Júlia Ojeda\, doctora en literatura catalana i professora\n—Gerard Furest\, filòleg i professor de català \nModeradora: Maria Palau \nMés informació \n—\nOrganitzat per Acció Cultural del País Valencià\, Fundació Congrés de Cultura Catalana i PEN Català.
URL:https://octubre.cat/activitat/congres-de-cultura-catalana-el-dret-a-la-llengua-reptes-i-oportunitats/
LOCATION:Sala d’actes
CATEGORIES:Conferències i congressos
ATTACH;FMTTYPE=image/webp:https://octubre.cat/www/wp-content/uploads/2025/10/congrescultcat18octubre.webp
END:VEVENT
END:VCALENDAR