BEGIN:VCALENDAR
VERSION:2.0
PRODID:-//Octubre Centre de Cultura Contemporània - ECPv5.1.6//NONSGML v1.0//EN
CALSCALE:GREGORIAN
METHOD:PUBLISH
X-WR-CALNAME:Octubre Centre de Cultura Contemporània
X-ORIGINAL-URL:https://octubre.cat
X-WR-CALDESC:Events for Octubre Centre de Cultura Contemporània
BEGIN:VTIMEZONE
TZID:Europe/Andorra
BEGIN:DAYLIGHT
TZOFFSETFROM:+0100
TZOFFSETTO:+0200
TZNAME:CEST
DTSTART:20070325T010000
END:DAYLIGHT
BEGIN:STANDARD
TZOFFSETFROM:+0200
TZOFFSETTO:+0100
TZNAME:CET
DTSTART:20071028T010000
END:STANDARD
END:VTIMEZONE
BEGIN:VEVENT
DTSTART;TZID=Europe/Andorra:20071219T190000
DTEND;TZID=Europe/Andorra:20071219T190000
DTSTAMP:20260420T181955
CREATED:20200729T181625Z
LAST-MODIFIED:20200730T035543Z
UID:12431-1198090800-1198090800@octubre.cat
SUMMARY:Conferència sobre el premi Nobel de Literatura de 2007
DESCRIPTION:Hui dimecres\, 19.00h. Xarrada sobre el premi Nobel de Literatura 2007 concedit a Doris Lessing. A càrrec de Marta Pessarrodona.   \n  \n  \n\nXarrada sobre el premi Nobel de Literatura 2007 concedit a Doris Lessing.  A càrrec de Marta Pessarrodona\, poetessa i crítica literària.  Organitzen: Institut d’Estudis Catalans\, Acció Cultural del País Valencià i la Càtedra de Divulgació de la Ciència de la Universitat de València.  Entrada lliure
URL:https://octubre.cat/activitat/conferencia-sobre-el-premi-nobel-de-literatura-de-2007/
LOCATION:No definit
CATEGORIES:Espai Ciència
ATTACH;FMTTYPE=image/jpeg:https://octubre.cat/www/wp-content/uploads/2020/07/espaiciencia1.jpg
END:VEVENT
END:VCALENDAR