BEGIN:VCALENDAR
VERSION:2.0
PRODID:-//Octubre Centre de Cultura Contemporània - ECPv5.1.6//NONSGML v1.0//EN
CALSCALE:GREGORIAN
METHOD:PUBLISH
X-WR-CALNAME:Octubre Centre de Cultura Contemporània
X-ORIGINAL-URL:https://octubre.cat
X-WR-CALDESC:Events for Octubre Centre de Cultura Contemporània
BEGIN:VTIMEZONE
TZID:Europe/Andorra
BEGIN:DAYLIGHT
TZOFFSETFROM:+0100
TZOFFSETTO:+0200
TZNAME:CEST
DTSTART:20150329T010000
END:DAYLIGHT
BEGIN:STANDARD
TZOFFSETFROM:+0200
TZOFFSETTO:+0100
TZNAME:CET
DTSTART:20151025T010000
END:STANDARD
END:VTIMEZONE
BEGIN:VEVENT
DTSTART;TZID=Europe/Andorra:20150507T190000
DTEND;TZID=Europe/Andorra:20150507T190000
DTSTAMP:20260422T074330
CREATED:20200729T171035Z
LAST-MODIFIED:20200730T041429Z
UID:10152-1431025200-1431025200@octubre.cat
SUMMARY:Conferència sobre el diagnòstic de malalties infeccioses
DESCRIPTION:Dijous 7 de maig a les 19.00h. A càrrec d’Alba Hervás\, del Centre de Reconeixement Molecular i Desenvolupament Tecnològic  \n  \n  \n\n El diagnòstic ràpid de les malalties infeccioses mitjançant la tecnologia dels CDs  A càrrec d’Alba Hervás Mateu Llicenciada en Biotecnologia per la UPV\, Centre de Reconeixement Molecular i Desenvolupament Tecnològic (IDM). Departament de Química de la Universitat Politècnica de València.  Organitzat per la Societat Valenciana de Ciències de la Salut “Joan B. Peset”
URL:https://octubre.cat/activitat/conferencia-sobre-el-diagnostic-de-malalties-infeccioses/
CATEGORIES:Conferències i congressos
ATTACH;FMTTYPE=image/jpeg:https://octubre.cat/www/wp-content/uploads/2020/07/activitat2313.jpg
END:VEVENT
END:VCALENDAR