BEGIN:VCALENDAR
VERSION:2.0
PRODID:-//Octubre Centre de Cultura Contemporània - ECPv5.1.6//NONSGML v1.0//EN
CALSCALE:GREGORIAN
METHOD:PUBLISH
X-WR-CALNAME:Octubre Centre de Cultura Contemporània
X-ORIGINAL-URL:https://octubre.cat
X-WR-CALDESC:Events for Octubre Centre de Cultura Contemporània
BEGIN:VTIMEZONE
TZID:Europe/Andorra
BEGIN:DAYLIGHT
TZOFFSETFROM:+0100
TZOFFSETTO:+0200
TZNAME:CEST
DTSTART:20120325T010000
END:DAYLIGHT
BEGIN:STANDARD
TZOFFSETFROM:+0200
TZOFFSETTO:+0100
TZNAME:CET
DTSTART:20121028T010000
END:STANDARD
END:VTIMEZONE
BEGIN:VEVENT
DTSTART;TZID=Europe/Andorra:20121025T193000
DTEND;TZID=Europe/Andorra:20121025T193000
DTSTAMP:20260421T165714
CREATED:20200729T165836Z
LAST-MODIFIED:20200729T183932Z
UID:9421-1351193400-1351193400@octubre.cat
SUMMARY:Conferència-presentació del Practitioner en PNL amb models DBM
DESCRIPTION:Dijous 25 d’octubre a les 19.30h: conferència-presentació del Practitioner en PNL amb models DBM  \n  \n  \n\nPer a potenciar el desenvolupament personal/professional i les relacions humanes.  Presentació de la formació en DBM/PNL amb inici al desembre Ponent: Carles Porcel director de www.PeNeLers.com
URL:https://octubre.cat/activitat/conferencia-presentacio-del-practitioner-en-pnl-amb-models-dbm/
LOCATION:No definit
CATEGORIES:Literatura
ATTACH;FMTTYPE=image/jpeg:https://octubre.cat/www/wp-content/uploads/2020/07/presentacions1.jpg
END:VEVENT
END:VCALENDAR