BEGIN:VCALENDAR
VERSION:2.0
PRODID:-//Octubre Centre de Cultura Contemporània - ECPv5.1.6//NONSGML v1.0//EN
CALSCALE:GREGORIAN
METHOD:PUBLISH
X-WR-CALNAME:Octubre Centre de Cultura Contemporània
X-ORIGINAL-URL:https://octubre.cat
X-WR-CALDESC:Events for Octubre Centre de Cultura Contemporània
BEGIN:VTIMEZONE
TZID:Europe/Andorra
BEGIN:DAYLIGHT
TZOFFSETFROM:+0100
TZOFFSETTO:+0200
TZNAME:CEST
DTSTART:20070325T010000
END:DAYLIGHT
BEGIN:STANDARD
TZOFFSETFROM:+0200
TZOFFSETTO:+0100
TZNAME:CET
DTSTART:20071028T010000
END:STANDARD
END:VTIMEZONE
BEGIN:VEVENT
DTSTART;TZID=Europe/Andorra:20071006T120000
DTEND;TZID=Europe/Andorra:20071006T120000
DTSTAMP:20260420T181203
CREATED:20200729T181511Z
LAST-MODIFIED:20260106T194718Z
UID:12359-1191672000-1191672000@octubre.cat
SUMMARY:Uxue Barkos: Nafarroa Bai\, el trencament de l'status quo
DESCRIPTION:Conferència “Nafarroa Bai\, el trencament de l’status quo” \nA càrrec d’Uxue Barkos\, diputada de Nafarroa Bai \nPresentada per Agustí Cerdà\, diputat d’Esquerra Republicana
URL:https://octubre.cat/activitat/conferencia-nafarroa-bai-el-trencament-de-lstatus-quo/
LOCATION:No definit
CATEGORIES:Tribuna
ATTACH;FMTTYPE=image/jpeg:https://octubre.cat/www/wp-content/uploads/2020/07/conferencia1.jpg
END:VEVENT
END:VCALENDAR