BEGIN:VCALENDAR
VERSION:2.0
PRODID:-//Octubre Centre de Cultura Contemporània - ECPv5.1.6//NONSGML v1.0//EN
CALSCALE:GREGORIAN
METHOD:PUBLISH
X-WR-CALNAME:Octubre Centre de Cultura Contemporània
X-ORIGINAL-URL:https://octubre.cat
X-WR-CALDESC:Events for Octubre Centre de Cultura Contemporània
BEGIN:VTIMEZONE
TZID:Europe/Andorra
BEGIN:DAYLIGHT
TZOFFSETFROM:+0100
TZOFFSETTO:+0200
TZNAME:CEST
DTSTART:20100328T010000
END:DAYLIGHT
BEGIN:STANDARD
TZOFFSETFROM:+0200
TZOFFSETTO:+0100
TZNAME:CET
DTSTART:20101031T010000
END:STANDARD
END:VTIMEZONE
BEGIN:VEVENT
DTSTART;TZID=Europe/Andorra:20100304T193000
DTEND;TZID=Europe/Andorra:20100304T193000
DTSTAMP:20260420T223002
CREATED:20200729T164757Z
LAST-MODIFIED:20200729T182829Z
UID:8758-1267731000-1267731000@octubre.cat
SUMMARY:Conferència inaugural
DESCRIPTION:Dijous 4 de març a les 19.30h\, Conferència d’Abel La Calle: “La directiva marc de l’aigua: principis per a la gestió sostenible dels nostres rius i aqüífers”  \n  \n  \n\n “La directiva marc de l’aigua: principis per a la gestió sostenible dels nostres rius i aqüífers”\, a càrrec d’Abel La Calle\, professor de Dret Internacional de la Universitat d’Almeria i vicepresident de la Fundació Nova Cultura de l’Aigua (FNCA).   Presenta: Francesc La Roca\, professor d’Economia Aplicada de la Universitat de València i soci fundador de la FNCA.
URL:https://octubre.cat/activitat/conferencia-inaugural/
LOCATION:No definit
CATEGORIES:Els rius, molt més que aigua
ATTACH;FMTTYPE=image/jpeg:https://octubre.cat/www/wp-content/uploads/2020/07/activitat1104.jpg
END:VEVENT
END:VCALENDAR