BEGIN:VCALENDAR
VERSION:2.0
PRODID:-//Octubre Centre de Cultura Contemporània - ECPv5.1.6//NONSGML v1.0//EN
CALSCALE:GREGORIAN
METHOD:PUBLISH
X-WR-CALNAME:Octubre Centre de Cultura Contemporània
X-ORIGINAL-URL:https://octubre.cat
X-WR-CALDESC:Events for Octubre Centre de Cultura Contemporània
BEGIN:VTIMEZONE
TZID:Europe/Andorra
BEGIN:DAYLIGHT
TZOFFSETFROM:+0100
TZOFFSETTO:+0200
TZNAME:CEST
DTSTART:20100328T010000
END:DAYLIGHT
BEGIN:STANDARD
TZOFFSETFROM:+0200
TZOFFSETTO:+0100
TZNAME:CET
DTSTART:20101031T010000
END:STANDARD
END:VTIMEZONE
BEGIN:VEVENT
DTSTART;TZID=Europe/Andorra:20100330T190000
DTEND;TZID=Europe/Andorra:20100330T190000
DTSTAMP:20260420T160457
CREATED:20200729T164808Z
LAST-MODIFIED:20200729T182841Z
UID:8769-1269975600-1269975600@octubre.cat
SUMMARY:Conferència d'Emilie Jouvet
DESCRIPTION:Dimarts 30 de març\, a les 19.00h: Cicle de conferències sobre cinema post-porno feminista. Conferència d’Emilie Jouvet (fotògrafa i realitzadora).   \n  \n  \n\nEmilie Jouvet\, jove fotògrafa i realitzadora francesa\, fundadora de l’associació TTMF i del col·lectiu d’artistes Fem Menace\, explora\, a través del seu treball fotogràfic\, l’escena underground queer de París\, ciutat en la qual resideix. Jouvet juga amb la subversió de gènere i la identitat\, a partir d’una estètica única\, sexy alhora que compromesa\, on els cossos lluiten contra les seues pròpies fronteres biològiques i culturals. Les seues pel·lícules i curtmetratges s’han projectat en diversos festivals internacionals i també en la televisió. One night stand i The Apple resultaren premiats als festivals de Berlín\, Copenhaguen\, Amsterdam\, Toronto i Madrid el passat 2009.
URL:https://octubre.cat/activitat/conferencia-demilie-jouvet/
LOCATION:No definit
CATEGORIES:Espai Dona
ATTACH;FMTTYPE=image/jpeg:https://octubre.cat/www/wp-content/uploads/2020/07/activitat1115.jpg
END:VEVENT
END:VCALENDAR