BEGIN:VCALENDAR
VERSION:2.0
PRODID:-//Octubre Centre de Cultura Contemporània - ECPv5.1.6//NONSGML v1.0//EN
CALSCALE:GREGORIAN
METHOD:PUBLISH
X-WR-CALNAME:Octubre Centre de Cultura Contemporània
X-ORIGINAL-URL:https://octubre.cat
X-WR-CALDESC:Events for Octubre Centre de Cultura Contemporània
BEGIN:VTIMEZONE
TZID:Europe/Andorra
BEGIN:DAYLIGHT
TZOFFSETFROM:+0100
TZOFFSETTO:+0200
TZNAME:CEST
DTSTART:20100328T010000
END:DAYLIGHT
BEGIN:STANDARD
TZOFFSETFROM:+0200
TZOFFSETTO:+0100
TZNAME:CET
DTSTART:20101031T010000
END:STANDARD
END:VTIMEZONE
BEGIN:VEVENT
DTSTART;TZID=Europe/Andorra:20100406T190000
DTEND;TZID=Europe/Andorra:20100406T190000
DTSTAMP:20260420T160236
CREATED:20200729T164809Z
LAST-MODIFIED:20200729T182842Z
UID:8771-1270580400-1270580400@octubre.cat
SUMMARY:Conferència de Shu Lea Cheang
DESCRIPTION:Dimarts 6 d’abril\, a les 19.00h: Allibera’t! Cicle de cinema post-porno feminista. Conferència de Shu Lea Cheang (cineasta).   \n  \n  \n\nShu Lea Cheang\, nascuda a Taiwan i llicenciada en Història de l’art i del cinema\, actualment resideix a París i té nacionalitat americana\, tot i que es considera més aviat una treballadora nòmada en la zona euro. Va començar la seua carrera amb el col·lectiu Paper Tiger i amb Deep Dish TV. El seu treball se centra en l’edició de vídeo\, instal·lacions artístiques i art digital. La seua instal·lació “Brandon: a one year narrative project in installments” es va convertir en una de les primeres peces de net.art comissariades pel Guggenheim de Nova York. La seua pel·lícula IKU\, qualificada per l’autora com obra caber o techno porno\, és una anàlisi de la societat japonesa que reflecteix la reacció de les dones davant la contradicció de viure en una societat amb uns valors medievals\, però amb una estètica techno. Aquesta obra\, moderna i feminista\, fou premiada al Festival de Sundance de l’any 2000 i la va convertir en directora de culte. Posteriorment\, crearia UKI\, un videojoc ciberfeminista basat en la pel·lícula.
URL:https://octubre.cat/activitat/conferencia-de-shu-lea-cheang/
LOCATION:No definit
CATEGORIES:Espai Dona
ATTACH;FMTTYPE=image/jpeg:https://octubre.cat/www/wp-content/uploads/2020/07/activitat1117.jpg
END:VEVENT
END:VCALENDAR