BEGIN:VCALENDAR
VERSION:2.0
PRODID:-//Octubre Centre de Cultura Contemporània - ECPv5.1.6//NONSGML v1.0//EN
CALSCALE:GREGORIAN
METHOD:PUBLISH
X-WR-CALNAME:Octubre Centre de Cultura Contemporània
X-ORIGINAL-URL:https://octubre.cat
X-WR-CALDESC:Events for Octubre Centre de Cultura Contemporània
BEGIN:VTIMEZONE
TZID:Europe/Andorra
BEGIN:DAYLIGHT
TZOFFSETFROM:+0100
TZOFFSETTO:+0200
TZNAME:CEST
DTSTART:20100328T010000
END:DAYLIGHT
BEGIN:STANDARD
TZOFFSETFROM:+0200
TZOFFSETTO:+0100
TZNAME:CET
DTSTART:20101031T010000
END:STANDARD
END:VTIMEZONE
BEGIN:VEVENT
DTSTART;TZID=Europe/Andorra:20100323T190000
DTEND;TZID=Europe/Andorra:20100323T190000
DTSTAMP:20260420T162229
CREATED:20200729T164807Z
LAST-MODIFIED:20200729T182839Z
UID:8768-1269370800-1269370800@octubre.cat
SUMMARY:Conferència de Petra Joy
DESCRIPTION:Dimarts 23 de març\, a les 19.00h: “My life as a feminist pornographer”\, conferència de Petra Joy\, cineasta (Regne Unit).   \n  \n  \n\n“My life as a feminist pornographer”\, conferència a càrrec de Petra Joy.   Petra Joy\, artista de “sexe positiu”\, com es defineix ella mateixa\, té estudis de cinema\, de feminisme i d’història per la Universitat de Colònia. Ha dirigit i produït programes per a la televisió alemanya\, a més d’haver fundat Strawberry-Seductress\, productora de vídeo i estudi de fotografia eròtica per a dones i parelles. El 2004 va guanyar l’Erotic Award\, que s’atorga a les millors fotos eròtiques. També va dirigir l’exitosa pel·lícula Sexual Sushi. Amb la seua obra\, busca crear un porno lluny del convencional\, que trenque amb els estereotips de sexualitat femenina propis del cine porno fet per i per als homes. En les seues obres\, la sensualitat és el més important. No hi ha orgasmes ficticis perquè el que vol és captar el plaer sensual real i evita les accions sexuals degradants.
URL:https://octubre.cat/activitat/conferencia-de-petra-joy/
LOCATION:No definit
CATEGORIES:Espai Dona
ATTACH;FMTTYPE=image/jpeg:https://octubre.cat/www/wp-content/uploads/2020/07/activitat1114.jpg
END:VEVENT
END:VCALENDAR