BEGIN:VCALENDAR
VERSION:2.0
PRODID:-//Octubre Centre de Cultura Contemporània - ECPv5.1.6//NONSGML v1.0//EN
CALSCALE:GREGORIAN
METHOD:PUBLISH
X-WR-CALNAME:Octubre Centre de Cultura Contemporània
X-ORIGINAL-URL:https://octubre.cat
X-WR-CALDESC:Events for Octubre Centre de Cultura Contemporània
BEGIN:VTIMEZONE
TZID:Europe/Andorra
BEGIN:DAYLIGHT
TZOFFSETFROM:+0100
TZOFFSETTO:+0200
TZNAME:CEST
DTSTART:20100328T010000
END:DAYLIGHT
BEGIN:STANDARD
TZOFFSETFROM:+0200
TZOFFSETTO:+0100
TZNAME:CET
DTSTART:20101031T010000
END:STANDARD
END:VTIMEZONE
BEGIN:VEVENT
DTSTART;TZID=Europe/Andorra:20100209T193000
DTEND;TZID=Europe/Andorra:20100209T193000
DTSTAMP:20260420T181043
CREATED:20200729T164725Z
LAST-MODIFIED:20260104T175720Z
UID:8724-1265743800-1265743800@octubre.cat
SUMMARY:Paul Preston. El pobre soldat de Medellín: repressió de Franco i resistència de Negrín
DESCRIPTION:Conferència “El pobre soldat de Medellín: repressió de Franco i resistència de Negrín”\, conferència a càrrec de Paul Preston. \nPaul Preston (Liverpool\, 1946) és doctor en Història per la Universitat d’Oxford i catedràtic d’Història Contemporània espanyola\, així com director del Centre Cañada Blanch per a l’estudi de l’Espanya contemporània. A més\, ha sigut professor de la Universitat de Reading\, del Centre d’Estudis Mediterranis\, del Queen Mary College i de la London School of Economics. \nJuntament amb Ian Gibson i Hugh Thomas\, Preston és un dels hispanistes britànics que més esforç ha dedicat a l’estudi de la història espanyola recent\, molt especialment al període de la Segona República i la guerra civil. Analista per a diversos mitjans de comunicació\, com ara la BBC\, en qüestions d’actualitat que tinguen a veure amb l’Estat espanyol\, entre els seus llibres destaquen España en crisis: evolución y decadencia del régimen franquista; El triunfo de la democracia en España; Franco y la política de la venganza: el fascismo y el militarismo en la España del siglo XX o Las tres Españas del 36.
URL:https://octubre.cat/activitat/conferencia-de-paul-preston/
LOCATION:No definit
CATEGORIES:Tribuna
ATTACH;FMTTYPE=image/jpeg:https://octubre.cat/www/wp-content/uploads/2020/07/activitat1068.jpg
END:VEVENT
END:VCALENDAR