BEGIN:VCALENDAR
VERSION:2.0
PRODID:-//Octubre Centre de Cultura Contemporània - ECPv5.1.6//NONSGML v1.0//EN
CALSCALE:GREGORIAN
METHOD:PUBLISH
X-WR-CALNAME:Octubre Centre de Cultura Contemporània
X-ORIGINAL-URL:https://octubre.cat
X-WR-CALDESC:Events for Octubre Centre de Cultura Contemporània
BEGIN:VTIMEZONE
TZID:Europe/Andorra
BEGIN:DAYLIGHT
TZOFFSETFROM:+0100
TZOFFSETTO:+0200
TZNAME:CEST
DTSTART:20080330T010000
END:DAYLIGHT
BEGIN:STANDARD
TZOFFSETFROM:+0200
TZOFFSETTO:+0100
TZNAME:CET
DTSTART:20081026T010000
END:STANDARD
END:VTIMEZONE
BEGIN:VEVENT
DTSTART;TZID=Europe/Andorra:20081014T193000
DTEND;TZID=Europe/Andorra:20081014T193000
DTSTAMP:20260420T145219
CREATED:20200729T182107Z
LAST-MODIFIED:20200730T035851Z
UID:12706-1224012600-1224012600@octubre.cat
SUMMARY:Conferència de Louise Dupré
DESCRIPTION:Dimarts 14 d’octubre\, a les 19.30h: Conferència de Louise Dupré (Québec)  \n  \n  \n\nCicle “Dones i nació”. La nació quebequesa Organitzat per l’Espai Dona  Conferència de Louise Dupré: “L’intime et la politique: l’écriture des femmes au Québec”  Louise Dupré és poeta\, novel·lista i assagista. Ha publicat una quinzena de llibres que li han valgut nombrosos premis i distincions. Entre els seus llibres més recents es poden destacar “Tout près” i “Une écharde sous ton ingle” en la editorial Noroît\, la novel·la “La Voie lactée”\, així com “Tout comme elle”. És professora del departament d’Estudis Literaris de la Universitat de Quebec a Montreal\, membre de l’Acadèmia de les Lletres i de les Ciències Humanes de la Societat Real del Canadà i secretària general de l’Acadèmia de les Lletres de Quebec.
URL:https://octubre.cat/activitat/conferencia-de-louise-dupre/
LOCATION:No definit
CATEGORIES:Espai Dona
ATTACH;FMTTYPE=image/jpeg:https://octubre.cat/www/wp-content/uploads/2020/07/activitat697.jpg
END:VEVENT
END:VCALENDAR