BEGIN:VCALENDAR
VERSION:2.0
PRODID:-//Octubre Centre de Cultura Contemporània - ECPv5.1.6//NONSGML v1.0//EN
CALSCALE:GREGORIAN
METHOD:PUBLISH
X-WR-CALNAME:Octubre Centre de Cultura Contemporània
X-ORIGINAL-URL:https://octubre.cat
X-WR-CALDESC:Events for Octubre Centre de Cultura Contemporània
BEGIN:VTIMEZONE
TZID:Europe/Andorra
BEGIN:DAYLIGHT
TZOFFSETFROM:+0100
TZOFFSETTO:+0200
TZNAME:CEST
DTSTART:20100328T010000
END:DAYLIGHT
BEGIN:STANDARD
TZOFFSETFROM:+0200
TZOFFSETTO:+0100
TZNAME:CET
DTSTART:20101031T010000
END:STANDARD
END:VTIMEZONE
BEGIN:VEVENT
DTSTART;TZID=Europe/Andorra:20101125T200000
DTEND;TZID=Europe/Andorra:20101125T200000
DTSTAMP:20260420T130514
CREATED:20200729T165219Z
LAST-MODIFIED:20260104T185320Z
UID:9037-1290715200-1290715200@octubre.cat
SUMMARY:Josep Ramoneda. Contra la indiferència
DESCRIPTION:Conferència “Contra la indiferència” a càrrec de Josep Ramoneda\, director del Centre de Cultura Contemporània de Barcelona (CCCB) i president de l’Institut de la Recherche et de l’Innovation (IRI)\, a més de col·laborador habitual en mitjans com El País i la Cadena SER. \nContra la indiferència (Galaxia Gutenberg) és el darrer llibre del filòsof i escriptor Josep Ramoneda\, un llibre en el qual ha bolcat les seues reflexions dels últims cinc anys i en el qual lluita contra “l’inexorable destí del totalitarisme de la indiferència”.  Es tracta d’un assaig concebut com una barreja de gèneres\, ja que també inclou aforismes\, un diccionari del malestar de la cultura i un epíleg que dóna títol al llibre i que li atorga el punt més pamfletari\, en paraules de l’autor.  La seua conferència tractarà alguns dels temes que aborda l’obra\, com ara l’abús de poder en totes les seues formes\, l’hegemonia neoconservadora que domina el món des de finals dels 80\, el paper d’Europa en el món ara que ha esdevingut efectivament multipolar o la lluita contra el terrorisme com a instrument de propaganda de la por.
URL:https://octubre.cat/activitat/conferencia-de-josep-ramoneda/
LOCATION:No definit
CATEGORIES:Tribuna
ATTACH;FMTTYPE=image/jpeg:https://octubre.cat/www/wp-content/uploads/2020/07/activitat1309.jpg
END:VEVENT
END:VCALENDAR