BEGIN:VCALENDAR
VERSION:2.0
PRODID:-//Octubre Centre de Cultura Contemporània - ECPv5.1.6//NONSGML v1.0//EN
CALSCALE:GREGORIAN
METHOD:PUBLISH
X-WR-CALNAME:Octubre Centre de Cultura Contemporània
X-ORIGINAL-URL:https://octubre.cat
X-WR-CALDESC:Events for Octubre Centre de Cultura Contemporània
BEGIN:VTIMEZONE
TZID:Europe/Andorra
BEGIN:DAYLIGHT
TZOFFSETFROM:+0100
TZOFFSETTO:+0200
TZNAME:CEST
DTSTART:20230326T010000
END:DAYLIGHT
BEGIN:STANDARD
TZOFFSETFROM:+0200
TZOFFSETTO:+0100
TZNAME:CET
DTSTART:20231029T010000
END:STANDARD
END:VTIMEZONE
BEGIN:VEVENT
DTSTART;TZID=Europe/Andorra:20230612T180000
DTEND;TZID=Europe/Andorra:20230612T180000
DTSTAMP:20260420T113538
CREATED:20230404T095339Z
LAST-MODIFIED:20230519T183621Z
UID:19697-1686592800-1686592800@octubre.cat
SUMMARY:Conferència de Conchúr Ó Giollagáin
DESCRIPTION:Addressing the Contradictions of Language Promotion without Sufficient Language Protection: A New Approach to the Societal Dynamics of Threatened Minority-Language Group \nPresentat per Ferran Suay \nConchúr Ó Giollagáin és un dublinès que ha viscut durant molts anys a diverses regions de parla irlandesa abans d’arribar a la University of the Highland and Islands (Escòcia) el 2014. Ha estat professor de sociologia del llenguatge a l’Escola de Ciències Polítiques i Sociologia de la Universitat Nacional d’Irlanda de Galway. Ara viu a Inverness. Actualment és professor de recerca sobre el gaèlic\, i director de l’Institut de Ciències del Llenguatge de la UHI.\nEstà especialitzat en planificació lingüística i en cultura i sociologia de llengües minoritàries\, i ha escrit molt sobre temes relacionats amb la sostenibilitat d’aquestes cultures\, especialment les comunitats gaèliques a Irlanda i Escòcia.\nEls seus interessos docents i de recerca inclouen la planificació lingüística\, la sociolingüística\, l’antropologia lingüística i la biografia de Gaeltacht. \n—\nActe organitzat per Acció Cultural del País Valencià
URL:https://octubre.cat/activitat/conferencia-de-conchur-o-giollagain/
LOCATION:Aula 1
CATEGORIES:Conferències i congressos
ATTACH;FMTTYPE=image/jpeg:https://octubre.cat/www/wp-content/uploads/2023/04/Conchur-O-Giollagain.jpg
END:VEVENT
END:VCALENDAR