BEGIN:VCALENDAR
VERSION:2.0
PRODID:-//Octubre Centre de Cultura Contemporània - ECPv5.1.6//NONSGML v1.0//EN
CALSCALE:GREGORIAN
METHOD:PUBLISH
X-WR-CALNAME:Octubre Centre de Cultura Contemporània
X-ORIGINAL-URL:https://octubre.cat
X-WR-CALDESC:Events for Octubre Centre de Cultura Contemporània
BEGIN:VTIMEZONE
TZID:Europe/Andorra
BEGIN:DAYLIGHT
TZOFFSETFROM:+0100
TZOFFSETTO:+0200
TZNAME:CEST
DTSTART:20090329T010000
END:DAYLIGHT
BEGIN:STANDARD
TZOFFSETFROM:+0200
TZOFFSETTO:+0100
TZNAME:CET
DTSTART:20091025T010000
END:STANDARD
END:VTIMEZONE
BEGIN:VEVENT
DTSTART;TZID=Europe/Andorra:20090625T193000
DTEND;TZID=Europe/Andorra:20090625T193000
DTSTAMP:20260420T215503
CREATED:20200729T182521Z
LAST-MODIFIED:20200729T182521Z
UID:12874-1245958200-1245958200@octubre.cat
SUMMARY:Conferència de Carlos Taibo
DESCRIPTION:Dijous 25 de juny\, a les 19.30h: “Per a repensar críticament la Unió Europea”\, conferència a càrrec de Carlos Taibo (Universitat Autònoma de Madrid).   \n  \n  \n\n“Per a repensar críticament la Unió Europea”\, conferència a càrrec de Carlos Taibo.   CARLOS TAIBO és escriptor\, editor i professor titular de Ciència Política i de l’Administració en la Universitat Autònoma de Madrid. És autor d’una vintena de llibres en castellà\, en bona part relatius a les transicions en l’Europa central i oriental contemporània.   Aquesta conferència forma part  del Cicle de Debats\, que organitza la Fundació CEPS. La Fundació CEPS és una ONGD que treballa en l’àmbit de la cooperació tècnica\, l’observació electoral i la sensibilització sobre la realitat llatinoamericana amb la finalitat de contribuir a la transformació de la societat en una realitat més justa\, democràtica i solidària.
URL:https://octubre.cat/activitat/conferencia-de-carlos-taibo/
LOCATION:No definit
CATEGORIES:Conferències i congressos
ATTACH;FMTTYPE=image/jpeg:https://octubre.cat/www/wp-content/uploads/2020/07/activitat905.jpg
END:VEVENT
END:VCALENDAR