BEGIN:VCALENDAR
VERSION:2.0
PRODID:-//Octubre Centre de Cultura Contemporània - ECPv5.1.6//NONSGML v1.0//EN
CALSCALE:GREGORIAN
METHOD:PUBLISH
X-WR-CALNAME:Octubre Centre de Cultura Contemporània
X-ORIGINAL-URL:https://octubre.cat
X-WR-CALDESC:Events for Octubre Centre de Cultura Contemporània
BEGIN:VTIMEZONE
TZID:Europe/Andorra
BEGIN:DAYLIGHT
TZOFFSETFROM:+0100
TZOFFSETTO:+0200
TZNAME:CEST
DTSTART:20090329T010000
END:DAYLIGHT
BEGIN:STANDARD
TZOFFSETFROM:+0200
TZOFFSETTO:+0100
TZNAME:CET
DTSTART:20091025T010000
END:STANDARD
END:VTIMEZONE
BEGIN:VEVENT
DTSTART;TZID=Europe/Andorra:20091203T193000
DTEND;TZID=Europe/Andorra:20091203T193000
DTSTAMP:20260420T194155
CREATED:20200729T164633Z
LAST-MODIFIED:20200729T182715Z
UID:8673-1259868600-1259868600@octubre.cat
SUMMARY:Conferència de Carles Arnal
DESCRIPTION:Dijous 3 de desembre\, a les 19.30h: En el marc dels Debats de la Fundació CEPS 2009. Carles Arnal és membre d’Acció Ecologista-Agró i exdiputat de l’Entesa. Presenta l’acte Joan Ribó.   \n  \n  \n\nDebats de la Fundació CEPS ’09  Amb Carles Arnal\, membre d’Acció Ecologista-Agró\, exdiputat de l’Entesa (portaveu en la comissió de Medi Ambient a les Corts Valencianes).    Presenta: Joan Ribó\, membre de la Fundació CEPS.  Activitats de la Fundació CEPS a l’Octubre CCC.
URL:https://octubre.cat/activitat/conferencia-de-carles-arnal/
LOCATION:No definit
CATEGORIES:Conferències i congressos
ATTACH;FMTTYPE=image/jpeg:https://octubre.cat/www/wp-content/uploads/2020/07/activitat1016.jpg
END:VEVENT
END:VCALENDAR