BEGIN:VCALENDAR
VERSION:2.0
PRODID:-//Octubre Centre de Cultura Contemporània - ECPv5.1.6//NONSGML v1.0//EN
CALSCALE:GREGORIAN
METHOD:PUBLISH
X-WR-CALNAME:Octubre Centre de Cultura Contemporània
X-ORIGINAL-URL:https://octubre.cat
X-WR-CALDESC:Events for Octubre Centre de Cultura Contemporània
BEGIN:VTIMEZONE
TZID:Europe/Andorra
BEGIN:DAYLIGHT
TZOFFSETFROM:+0100
TZOFFSETTO:+0200
TZNAME:CEST
DTSTART:20080330T010000
END:DAYLIGHT
BEGIN:STANDARD
TZOFFSETFROM:+0200
TZOFFSETTO:+0100
TZNAME:CET
DTSTART:20081026T010000
END:STANDARD
END:VTIMEZONE
BEGIN:VEVENT
DTSTART;TZID=Europe/Andorra:20081105T193000
DTEND;TZID=Europe/Andorra:20081105T193000
DTSTAMP:20260420T192052
CREATED:20200729T182108Z
LAST-MODIFIED:20200730T035852Z
UID:12707-1225913400-1225913400@octubre.cat
SUMMARY:Conferència d'Andreu Lascorz
DESCRIPTION:Dimecres 5 de novembre\, a les 19.30h: Conferència d’Andreu Lascorz: “La controvèrsia judeo-cristiana dels orígens fins el segle XIII”.  \n  \n  \n\nOrganitzat per l’Associació d’Amistat Judeo-Cristiana de València amb la col·laboració de l’Octubre CCC  “La controvèrsia judeo-cristiana dels orígens fins el segle XIII”. Conferència a càrrec d’Andreu Lascorz i Arcas\, president de l’Associació de Relacions Culturals Catalunya-Israel (ARCCI)
URL:https://octubre.cat/activitat/conferencia-dandreu-lascorz/
LOCATION:No definit
CATEGORIES:Conferències i congressos
ATTACH;FMTTYPE=image/jpeg:https://octubre.cat/www/wp-content/uploads/2020/07/conferencia1.jpg
END:VEVENT
END:VCALENDAR