BEGIN:VCALENDAR
VERSION:2.0
PRODID:-//Octubre Centre de Cultura Contemporània - ECPv5.1.6//NONSGML v1.0//EN
CALSCALE:GREGORIAN
METHOD:PUBLISH
X-WR-CALNAME:Octubre Centre de Cultura Contemporània
X-ORIGINAL-URL:https://octubre.cat
X-WR-CALDESC:Events for Octubre Centre de Cultura Contemporània
BEGIN:VTIMEZONE
TZID:Europe/Andorra
BEGIN:DAYLIGHT
TZOFFSETFROM:+0100
TZOFFSETTO:+0200
TZNAME:CEST
DTSTART:20230326T010000
END:DAYLIGHT
BEGIN:STANDARD
TZOFFSETFROM:+0200
TZOFFSETTO:+0100
TZNAME:CET
DTSTART:20231029T010000
END:STANDARD
END:VTIMEZONE
BEGIN:VEVENT
DTSTART;TZID=Europe/Andorra:20231220T190000
DTEND;TZID=Europe/Andorra:20231220T190000
DTSTAMP:20260422T042529
CREATED:20231102T102631Z
LAST-MODIFIED:20250710T100403Z
UID:20543-1703098800-1703098800@octubre.cat
SUMMARY:Conferència «Concepción Aleixandre Ballester (1862-1952): una nova forma d’entendre la Medicina»\, per Àngels Royo
DESCRIPTION:Concepción Aleixandre Ballester (València\, 1862 – 1952) fou una metgessa ginecòloga pionera i una gran treballadora per a la salut de les dones en els anys de final del segle xix i començament del segle xx. \n  \n \nÀngels Royo Peiró és oncòloga a l’Hospital Lluís Alcanyís de Xàtiva i divulgadora en ciències de la Salut. Llicenciada en Medicina per la Universitat de València l’any 2007\, es va formar com a especialista en Oncologia Mèdica a l’Hospital Universitari Dr. Peset de València. Màster oficial interuniversitari en Història de la Ciència i Comunicació Científica\, ha col·laborat amb diferents publicacions nacionals i internacionals. Interessada per la divulgació científica i les humanitats\, l’any 2020 va publicar Clar i ras. Parlem del càncer (Vincle Editorial)\, el seu primer assaig destinat al gran públic. \n—\nOrganitzat per la Societat Valenciana de Ciències de la Salut Joan Baptista Peset amb la col·laboració d’ACPV
URL:https://octubre.cat/activitat/conferencia-concepcion-aleixandre-ballester-1862-1952-una-nova-forma-dentendre-la-medicina-per-angels-royo/
LOCATION:Àtic
CATEGORIES:Conferències i congressos
ATTACH;FMTTYPE=image/jpeg:https://octubre.cat/www/wp-content/uploads/2023/11/Concepcion_Aleixandre.jpg
END:VEVENT
END:VCALENDAR