BEGIN:VCALENDAR
VERSION:2.0
PRODID:-//Octubre Centre de Cultura Contemporània - ECPv5.1.6//NONSGML v1.0//EN
CALSCALE:GREGORIAN
METHOD:PUBLISH
X-WR-CALNAME:Octubre Centre de Cultura Contemporània
X-ORIGINAL-URL:https://octubre.cat
X-WR-CALDESC:Events for Octubre Centre de Cultura Contemporània
BEGIN:VTIMEZONE
TZID:Europe/Andorra
BEGIN:DAYLIGHT
TZOFFSETFROM:+0100
TZOFFSETTO:+0200
TZNAME:CEST
DTSTART:20120325T010000
END:DAYLIGHT
BEGIN:STANDARD
TZOFFSETFROM:+0200
TZOFFSETTO:+0100
TZNAME:CET
DTSTART:20121028T010000
END:STANDARD
END:VTIMEZONE
BEGIN:VEVENT
DTSTART;TZID=Europe/Andorra:20120703T193000
DTEND;TZID=Europe/Andorra:20120703T193000
DTSTAMP:20260421T224833
CREATED:20200729T165811Z
LAST-MODIFIED:20200729T183908Z
UID:9395-1341343800-1341343800@octubre.cat
SUMMARY:Concòrdia Grup Vocal
DESCRIPTION:Dimarts 3 de juliol\, a les 19.30h: actuació del grup vocal Concòrdia  \n  \n  \n\nActuació del grup vocal Concòrdia  Programa del concert:  O Magnum Mysterium (T. L. Victoria) Ave María a 8 veus (T. L. Victoria) In Memoria Aeterna (J. B. Comes) Nunc Dimittis (G. Holst) The Lamb (J. Tavener) Shall I Compare thee to a summer’s day (N. Lindberg) Alfonsina y el mar (A. Ramírez / A. Barja) Aritz Adarrean (J. Ezkurra) El arrullo del mar (J. L. Zamanillo) Chan Chan (C. Segundo / J. Martínez) I’m a train (A. Hammond / P. Knight) El Guayaboso (G. López-Gavilán)
URL:https://octubre.cat/activitat/concordia-grup-vocal/
LOCATION:No definit
CATEGORIES:Música
ATTACH;FMTTYPE=image/jpeg:https://octubre.cat/www/wp-content/uploads/2020/07/activitat1639.jpg
END:VEVENT
END:VCALENDAR